BEGIN:VCALENDAR
VERSION:2.0
PRODID:-//Forsyth Audubon Society - ECPv6.15.20//NONSGML v1.0//EN
CALSCALE:GREGORIAN
METHOD:PUBLISH
X-ORIGINAL-URL:https://forsythaudubon.org
X-WR-CALDESC:Events for Forsyth Audubon Society
REFRESH-INTERVAL;VALUE=DURATION:PT1H
X-Robots-Tag:noindex
X-PUBLISHED-TTL:PT1H
BEGIN:VTIMEZONE
TZID:UTC
BEGIN:STANDARD
TZOFFSETFROM:+0000
TZOFFSETTO:+0000
TZNAME:UTC
DTSTART:20240101T000000
END:STANDARD
END:VTIMEZONE
BEGIN:VEVENT
DTSTART;TZID=UTC:20251004T090000
DTEND;TZID=UTC:20251004T120000
DTSTAMP:20260422T083857
CREATED:20250924T185020Z
LAST-MODIFIED:20250924T190149Z
UID:9785-1759568400-1759579200@forsythaudubon.org
SUMMARY:Miller Park Invasive Removal - The Big Sweep
DESCRIPTION:Keep Winston Beautiful’s annual fall cleanup\, The Big Sweep\, is right around the corner! Join us at Miller Park to remove invasive plant species in conjunction with this wonderful city-wide event. \nMeet at Shelter 5 at 9 am\, 2500 Queen St. 27103 \nRegister here – https://www.eventbrite.com/e/big-sweep-invasive-plant-removal-miller-park-tickets-1734107655679 \nAll supplies are provided\, and trash will be hauled off – we just need people to pitch in and help tidy up our city! If you can’t make it\, consider donating to KWSB and help us purchase supplies for this event. Donate here
URL:https://forsythaudubon.org/event-calendar/miller-park-invasive-removal-the-big-sweep/
LOCATION:Miller Park\, 2641 Queen St\, Winston Salem\, NC\, 27103\, United States
CATEGORIES:Advocacy
END:VEVENT
END:VCALENDAR