BEGIN:VCALENDAR
VERSION:2.0
PRODID:-//Forsyth Audubon Society - ECPv6.15.20//NONSGML v1.0//EN
CALSCALE:GREGORIAN
METHOD:PUBLISH
X-WR-CALNAME:Forsyth Audubon Society
X-ORIGINAL-URL:https://forsythaudubon.org
X-WR-CALDESC:Events for Forsyth Audubon Society
REFRESH-INTERVAL;VALUE=DURATION:PT1H
X-Robots-Tag:noindex
X-PUBLISHED-TTL:PT1H
BEGIN:VTIMEZONE
TZID:UTC
BEGIN:STANDARD
TZOFFSETFROM:+0000
TZOFFSETTO:+0000
TZNAME:UTC
DTSTART:20240101T000000
END:STANDARD
END:VTIMEZONE
BEGIN:VEVENT
DTSTART;TZID=UTC:20251108T100000
DTEND;TZID=UTC:20251108T120000
DTSTAMP:20260422T053300
CREATED:20251027T183621Z
LAST-MODIFIED:20251028T175704Z
UID:9880-1762596000-1762603200@forsythaudubon.org
SUMMARY:eBird 101 with Rob Rogers
DESCRIPTION:Forsyth Audubon is offering the next step in our beginning birder classes\, eBird 101! It will be held at the Southside Branch Library Auditorium on Saturday\, 11/8 at 10:00 AM at 3185 Buchanan St\, Winston-Salem\, NC 27127. \nThe indomitable Rob Rogers will be going over all the basics of eBird\, the quintessential birding app for logging the species you’ve seen. This will be an interactive program. Participants are encouraged to follow along on their own phones to make a practice list. For this reason\, you will need to download the eBird app and set up an account prior to class. \nIf you have any questions or need assistance in downloading eBird please contact Rob Rogers at robrogers18@gmail.com. There is plenty of space so bring a friend!
URL:https://forsythaudubon.org/event-calendar/ebird-101-with-rob-rogers-2/
LOCATION:Southside Branch Library\, 3185 Buchanan St\, Winston Salem\, NC\, 27127\, United States
CATEGORIES:Bird Class
END:VEVENT
END:VCALENDAR