BEGIN:VCALENDAR
VERSION:2.0
PRODID:-//Forsyth Audubon Society - ECPv6.15.20//NONSGML v1.0//EN
CALSCALE:GREGORIAN
METHOD:PUBLISH
X-WR-CALNAME:Forsyth Audubon Society
X-ORIGINAL-URL:https://forsythaudubon.org
X-WR-CALDESC:Events for Forsyth Audubon Society
REFRESH-INTERVAL;VALUE=DURATION:PT1H
X-Robots-Tag:noindex
X-PUBLISHED-TTL:PT1H
BEGIN:VTIMEZONE
TZID:UTC
BEGIN:STANDARD
TZOFFSETFROM:+0000
TZOFFSETTO:+0000
TZNAME:UTC
DTSTART:20240101T000000
END:STANDARD
END:VTIMEZONE
BEGIN:VEVENT
DTSTART;VALUE=DATE:20250503
DTEND;VALUE=DATE:20250504
DTSTAMP:20260422T145405
CREATED:20250118T202742Z
LAST-MODIFIED:20250118T202742Z
UID:8361-1746230400-1746316799@forsythaudubon.org
SUMMARY:Forsyth Audubon Spring Bird Count
DESCRIPTION:Join us on May 3\, 2025 for the Forsyth Audubon Spring Bird Count. Teams will be spread out across our county to observe and count birds. Team start times and locations vary. For more information\, or to join this event\, please email forsythaudubon@gmail.com.
URL:https://forsythaudubon.org/event-calendar/forsyth-audubon-spring-bird-count/
CATEGORIES:Bird Count
END:VEVENT
END:VCALENDAR