BEGIN:VCALENDAR
VERSION:2.0
PRODID:-//Forsyth Audubon Society - ECPv6.15.20//NONSGML v1.0//EN
CALSCALE:GREGORIAN
METHOD:PUBLISH
X-ORIGINAL-URL:https://forsythaudubon.org
X-WR-CALDESC:Events for Forsyth Audubon Society
REFRESH-INTERVAL;VALUE=DURATION:PT1H
X-Robots-Tag:noindex
X-PUBLISHED-TTL:PT1H
BEGIN:VTIMEZONE
TZID:UTC
BEGIN:STANDARD
TZOFFSETFROM:+0000
TZOFFSETTO:+0000
TZNAME:UTC
DTSTART:20230101T000000
END:STANDARD
END:VTIMEZONE
BEGIN:VEVENT
DTSTART;VALUE=DATE:20241228
DTEND;VALUE=DATE:20241229
DTSTAMP:20260422T232028
CREATED:20240806T150158Z
LAST-MODIFIED:20240806T150234Z
UID:5928-1735344000-1735430399@forsythaudubon.org
SUMMARY:Forsyth Audubon Christmas Bird Count
DESCRIPTION:Forsyth Audubon will have their Christmas Bird Count on December 28\, 2024.
URL:https://forsythaudubon.org/event-calendar/forsyth-audubon-christmas-bird-count/
CATEGORIES:Bird Count,Bird Outing,Bird Walk
END:VEVENT
END:VCALENDAR