BEGIN:VCALENDAR
VERSION:2.0
PRODID:-//Forsyth Audubon Society - ECPv6.15.20//NONSGML v1.0//EN
CALSCALE:GREGORIAN
METHOD:PUBLISH
X-WR-CALNAME:Forsyth Audubon Society
X-ORIGINAL-URL:https://forsythaudubon.org
X-WR-CALDESC:Events for Forsyth Audubon Society
REFRESH-INTERVAL;VALUE=DURATION:PT1H
X-Robots-Tag:noindex
X-PUBLISHED-TTL:PT1H
BEGIN:VTIMEZONE
TZID:UTC
BEGIN:STANDARD
TZOFFSETFROM:+0000
TZOFFSETTO:+0000
TZNAME:UTC
DTSTART:20230101T000000
END:STANDARD
END:VTIMEZONE
BEGIN:VEVENT
DTSTART;TZID=UTC:20240713T080000
DTEND;TZID=UTC:20240713T100000
DTSTAMP:20260423T074146
CREATED:20240420T123731Z
LAST-MODIFIED:20240509T103725Z
UID:5469-1720857600-1720864800@forsythaudubon.org
SUMMARY:Second Saturday Bird Outing at Bethabara Wetlands
DESCRIPTION:Join outing leader Wendy Hawkins at Bethabara Wetlands.
URL:https://forsythaudubon.org/event-calendar/second-saturday-bird-outing-5/
LOCATION:Bethabara Wetlands\, 3595 Reynolda Road\, Winston-Salem\, NC\, 27106\, United States
CATEGORIES:Bird Outing,Bird Walk
END:VEVENT
END:VCALENDAR