BEGIN:VCALENDAR
VERSION:2.0
PRODID:-//Forsyth Audubon Society - ECPv6.15.20//NONSGML v1.0//EN
CALSCALE:GREGORIAN
METHOD:PUBLISH
X-WR-CALNAME:Forsyth Audubon Society
X-ORIGINAL-URL:https://forsythaudubon.org
X-WR-CALDESC:Events for Forsyth Audubon Society
REFRESH-INTERVAL;VALUE=DURATION:PT1H
X-Robots-Tag:noindex
X-PUBLISHED-TTL:PT1H
BEGIN:VTIMEZONE
TZID:UTC
BEGIN:STANDARD
TZOFFSETFROM:+0000
TZOFFSETTO:+0000
TZNAME:UTC
DTSTART:20230101T000000
END:STANDARD
END:VTIMEZONE
BEGIN:VEVENT
DTSTART;TZID=UTC:20240810T080000
DTEND;TZID=UTC:20240810T100000
DTSTAMP:20260423T060309
CREATED:20240420T124138Z
LAST-MODIFIED:20240807T015648Z
UID:5471-1723276800-1723284000@forsythaudubon.org
SUMMARY:Second Saturday Bird Outing at Cascades Preserve
DESCRIPTION:Join outing leaders Pam and Doug DeNeve on Saturday\, August 10th at 8:00 AM for our Second Saturday Bird Outing! The outing will be at the Cascades Preserve in the NE portion of Forsyth County (technically just over the Guilford County line). We will meet in the parking lot located at 7359 Goodwill Church Rd\, Kernersville\, NC 27284. \nThe area is hilly and trails are rooted and uneven. It is recommended to wear comfortable hiking shoes and bring walking sticks if desired. Don’t forget water and a snack! There are plenty of places to stop along the way\, however\, there are no bathrooms available. This is a new trail for many of us and we are looking forward to see what we discover!
URL:https://forsythaudubon.org/event-calendar/second-saturday-bird-outing-6/
LOCATION:Cascades Preserve\, 7359 Goodwill Church Road\, Kernersville\, NC\, 27284\, United States
CATEGORIES:Bird Outing,Bird Walk
END:VEVENT
END:VCALENDAR