BEGIN:VCALENDAR
VERSION:2.0
PRODID:-//Forsyth Audubon Society - ECPv6.15.20//NONSGML v1.0//EN
CALSCALE:GREGORIAN
METHOD:PUBLISH
X-ORIGINAL-URL:https://forsythaudubon.org
X-WR-CALDESC:Events for Forsyth Audubon Society
REFRESH-INTERVAL;VALUE=DURATION:PT1H
X-Robots-Tag:noindex
X-PUBLISHED-TTL:PT1H
BEGIN:VTIMEZONE
TZID:UTC
BEGIN:STANDARD
TZOFFSETFROM:+0000
TZOFFSETTO:+0000
TZNAME:UTC
DTSTART:20230101T000000
END:STANDARD
END:VTIMEZONE
BEGIN:VEVENT
DTSTART;TZID=UTC:20241109T090000
DTEND;TZID=UTC:20241109T110000
DTSTAMP:20260423T012648
CREATED:20240923T000800Z
LAST-MODIFIED:20241021T234600Z
UID:6614-1731142800-1731150000@forsythaudubon.org
SUMMARY:Second Saturday Bird Outing
DESCRIPTION:Join outing leader Don Lendle on Saturday\, November 9th at 9:00 AM for our Second Saturday Bird Outing! The outing will be at the Thomas Trail at Crossnore. We will meet at the Gillette Street entrance. This is the Dr. C.D. Hauser trailhead.
URL:https://forsythaudubon.org/event-calendar/second-saturday-bird-outing-7/
LOCATION:Stuart and Emma Thomas Memorial Trail – Gillete Street\, 949 Gillete St.\, Winston-Salem\, NC\, 27105\, United States
CATEGORIES:Bird Outing,Bird Walk
END:VEVENT
END:VCALENDAR