BEGIN:VCALENDAR
VERSION:2.0
PRODID:-//Forsyth Audubon Society - ECPv6.15.20//NONSGML v1.0//EN
CALSCALE:GREGORIAN
METHOD:PUBLISH
X-ORIGINAL-URL:https://forsythaudubon.org
X-WR-CALDESC:Events for Forsyth Audubon Society
REFRESH-INTERVAL;VALUE=DURATION:PT1H
X-Robots-Tag:noindex
X-PUBLISHED-TTL:PT1H
BEGIN:VTIMEZONE
TZID:UTC
BEGIN:STANDARD
TZOFFSETFROM:+0000
TZOFFSETTO:+0000
TZNAME:UTC
DTSTART:20240101T000000
END:STANDARD
END:VTIMEZONE
BEGIN:VEVENT
DTSTART;TZID=UTC:20250322T100000
DTEND;TZID=UTC:20250322T120000
DTSTAMP:20260422T191952
CREATED:20250118T203243Z
LAST-MODIFIED:20250227T012349Z
UID:8369-1742637600-1742644800@forsythaudubon.org
SUMMARY:Young Birders Outing
DESCRIPTION:Join us for the March Young Birders Outing at Tanglewood Park! We will meet at 10:00 AM in the gravel parking lot across from Skilpot Lake/Shelter 3. We’ll focus on walking the Yadkin River Trail in order to see the nesting Great Blue Herons. Please remember that Tanglewood has a $2.00 park entrance fee. \nThe walk is geared for Young Birders\, but EVERYONE is welcome and encouraged to attend. Please wear sturdy shoes\, perhaps waterproof or rubber boots if there has been rain\, as the trail can be muddy. Snacks and beverages are a good idea. All young birders must be accompanied by a responsible adult.
URL:https://forsythaudubon.org/event-calendar/young-birders-outing-8/
LOCATION:Tanglewood Park Yadkin River Trail\, 4061 Clemmons Road\, Clemmons\, NC\, 27012\, United States
CATEGORIES:Bird Outing
END:VEVENT
END:VCALENDAR