BEGIN:VCALENDAR
VERSION:2.0
PRODID:-//Forsyth Audubon Society - ECPv6.15.20//NONSGML v1.0//EN
CALSCALE:GREGORIAN
METHOD:PUBLISH
X-ORIGINAL-URL:https://forsythaudubon.org
X-WR-CALDESC:Events for Forsyth Audubon Society
REFRESH-INTERVAL;VALUE=DURATION:PT1H
X-Robots-Tag:noindex
X-PUBLISHED-TTL:PT1H
BEGIN:VTIMEZONE
TZID:UTC
BEGIN:STANDARD
TZOFFSETFROM:+0000
TZOFFSETTO:+0000
TZNAME:UTC
DTSTART:20240101T000000
END:STANDARD
END:VTIMEZONE
BEGIN:VEVENT
DTSTART;TZID=UTC:20250412T080000
DTEND;TZID=UTC:20250412T100000
DTSTAMP:20260422T175731
CREATED:20250118T202933Z
LAST-MODIFIED:20250118T204217Z
UID:8363-1744444800-1744452000@forsythaudubon.org
SUMMARY:Second Saturday Bird Outing
DESCRIPTION:Join outing leader Rob Rogers on April 12th at 8:00 AM for our Second Saturday Bird Outing. This outing will be at Historic Bethabara Park. We will meet at the parking lot by the visitors center. This will be a great time to catch the first glimpses of migration as early migrants should be moving through the area.
URL:https://forsythaudubon.org/event-calendar/second-saturday-bird-outing-9/
LOCATION:Bethabara Visitor Center\, 2147 Bethabara Road\, Winston-Salem\, NC\, 27106\, United States
CATEGORIES:Bird Outing
END:VEVENT
END:VCALENDAR