BEGIN:VCALENDAR
VERSION:2.0
PRODID:-//Forsyth Audubon Society - ECPv6.15.20//NONSGML v1.0//EN
CALSCALE:GREGORIAN
METHOD:PUBLISH
X-WR-CALNAME:Forsyth Audubon Society
X-ORIGINAL-URL:https://forsythaudubon.org
X-WR-CALDESC:Events for Forsyth Audubon Society
REFRESH-INTERVAL;VALUE=DURATION:PT1H
X-Robots-Tag:noindex
X-PUBLISHED-TTL:PT1H
BEGIN:VTIMEZONE
TZID:UTC
BEGIN:STANDARD
TZOFFSETFROM:+0000
TZOFFSETTO:+0000
TZNAME:UTC
DTSTART:20230101T000000
END:STANDARD
END:VTIMEZONE
BEGIN:VEVENT
DTSTART;TZID=UTC:20251012T083000
DTEND;TZID=UTC:20251012T094500
DTSTAMP:20260421T214835
CREATED:20250902T023210Z
LAST-MODIFIED:20250902T023210Z
UID:9640-1760257800-1760262300@forsythaudubon.org
SUMMARY:Mindful Birding
DESCRIPTION:Meet in the paved parking lot behind Historic Bethabara Park Visitors Center\, 2147 Bethabara Rd.\n\nJoin us for a peaceful and reflective morning at Historic Bethabara Park\, where we will blend birdwatching with mindfulness practices to deepen our connection to nature. Whether you’re an experienced birder or a curious beginner\, this event invites you to slow down\, tune in\, and engage fully with the natural world. \nAll ages and experience levels with birding and mindfulness are welcome. We will walk a short distance through grass to our sit spot location.  You can expect an introduction on mindfulness\, a slow\, guided walk\, time for reflection in nature\, and space to share your experiences with others. Wear comfortable clothes for the weather and walking shoes. Option to bring your own portable chair. Blankets to sit on and binoculars will be available to borrow.
URL:https://forsythaudubon.org/event-calendar/mindful-birding/
LOCATION:Bethabara Visitor Center\, 2147 Bethabara Road\, Winston-Salem\, NC\, 27106\, United States
CATEGORIES:Bird Outing
END:VEVENT
BEGIN:VEVENT
DTSTART;TZID=UTC:20251011T080000
DTEND;TZID=UTC:20251011T160000
DTSTAMP:20260421T214835
CREATED:20250826T041237Z
LAST-MODIFIED:20250826T041237Z
UID:9571-1760169600-1760198400@forsythaudubon.org
SUMMARY:The Big Sit
DESCRIPTION:Location: Bethabara Trail\, 2147 Bethabara Rd. Winston-Salem\, NC 27106 \nDate: Saturday\, October 11th \, 2025\nTime: 8:00 a.m. – 4:00 p.m. EST \nHave you ever wanted to join a bird walk but felt intimidated by the physical requirements? Have you wanted to try birding in one spot but aren’t sure where? Or do you have a competitive streak when it comes to counting and identifying birds?\nJoin us for the 2025 BIG SIT! \nWe will be setting up our birding sit circle along the Bethabara Trail that runs along the Monarcas Creek\, behind the historic Palisade Fort. The goal is to sit as a group within our 17ft diameter circle and try to count and identify as many birds as possible. We will record all the birds we see throughout the day\, and send our counts to the New Haven Bird Club coordinators\, who will compile results from across the country! \nALL AGES AND SKILL LEVELS WELCOME!\nSIGN UP FOR EVENT REMINDERS HERE: \nhttps://www.signupgenius.com/go/20F0F44AEA92AABFD0-58143298-2025 \nDon’t forget to bring a chair or blanket to sit on\, and any binoculars\, scopes\, or cameras you may wish to use. \nParking will be available at the following locations: \nBethabara Visitor Center: 2147 Bethabara Rd. Winston-Salem\, NC 27106 (General parking)\n[Bethabara Moravian Church: 2100 Bethabara Rd\, Winston-Salem\, NC 27106 (Paved trail Accessibility parking)]
URL:https://forsythaudubon.org/event-calendar/the-big-sit/
LOCATION:Bethabara Visitor Center\, 2147 Bethabara Road\, Winston-Salem\, NC\, 27106\, United States
CATEGORIES:Bird Outing
END:VEVENT
BEGIN:VEVENT
DTSTART;TZID=UTC:20251004T100000
DTEND;TZID=UTC:20251004T113000
DTSTAMP:20260421T214835
CREATED:20250901T234031Z
LAST-MODIFIED:20250901T234031Z
UID:9637-1759572000-1759577400@forsythaudubon.org
SUMMARY:Birding Basics for Millennials
DESCRIPTION:Have you “heard the call” but don’t know how to get started on your birding journey? Join Rob Rogers on October 4th at 10 AM at the Southside Library for a fun and informative workshop on all the technology\, skills\, and resources you’ll need to have your first successful bird outing. We’ll conclude the workshop with a short bird walk through the woods on the library grounds\, where you will have a chance to apply your newfound expertise.
URL:https://forsythaudubon.org/event-calendar/birding-basics-for-millennials/
LOCATION:Southside Branch Library\, 3185 Buchanan St\, Winston Salem\, NC\, 27127\, United States
CATEGORIES:Bird Outing
END:VEVENT
BEGIN:VEVENT
DTSTART;TZID=UTC:20250914T193000
DTEND;TZID=UTC:20250914T203000
DTSTAMP:20260421T214835
CREATED:20250820T182144Z
LAST-MODIFIED:20250820T182144Z
UID:9544-1757878200-1757881800@forsythaudubon.org
SUMMARY:Chimney Swift Night Out
DESCRIPTION:When: Sunday\, September 14\, 2025 \nWhere: Northwest Middle School (side parking lot)5501 Murray Road\, Winston-Salem\, NC 27106 \nWhat to Bring: folding chair\, favorite beverage and snack\, camera\, binoculars* (*loaner pairs available) \nWhat to Expect: During migration\, hundreds or even thousands of Chimney Swifts gather and then descend into this chimney just as it becomes dark. Come to socialize and learn about these amazing relatives of hummingbirds\, and share with friends an annual phenomenon of nature. \nRain Date: TBD
URL:https://forsythaudubon.org/event-calendar/chimney-swift-night-out/
LOCATION:Northwest Middle School\, 5501 Murray Road\, Winston-Salem\, 27106\, United States
CATEGORIES:Bird Outing
END:VEVENT
BEGIN:VEVENT
DTSTART;TZID=UTC:20250614T080000
DTEND;TZID=UTC:20250614T100000
DTSTAMP:20260421T214835
CREATED:20250118T204617Z
LAST-MODIFIED:20250118T204617Z
UID:8380-1749888000-1749895200@forsythaudubon.org
SUMMARY:Second Saturday Bird Outing
DESCRIPTION:Join outing leader Allison Gagnon at Horizons Park for our June Second Saturday Bird Outing. This outing will be on June 14 at 8:00 AM. We will be on the lookout for species such as Eastern Meadowlark and Scarlet Tanager. We also will be searching for resident breeding species.
URL:https://forsythaudubon.org/event-calendar/second-saturday-bird-outing-14/
LOCATION:Horizons Park\, 2835 Memorial Industrial School Road\, Germanton\, NC\, 27019\, United States
CATEGORIES:Bird Outing
END:VEVENT
BEGIN:VEVENT
DTSTART;TZID=UTC:20250526T080000
DTEND;TZID=UTC:20250526T110000
DTSTAMP:20260421T214835
CREATED:20250118T202335Z
LAST-MODIFIED:20250208T184615Z
UID:8359-1748246400-1748257200@forsythaudubon.org
SUMMARY:Monday Bird Outing
DESCRIPTION:Join us for our May Monday Bird Outing at Bethania Black Walnut Bottoms. This outing will start at 8:00 AM.
URL:https://forsythaudubon.org/event-calendar/monday-bird-outing-12/
LOCATION:Bethania Black Walnut Bottoms\, 5393 Ham Horton Lane\, Bethania\, NC\, 27010\, United States
CATEGORIES:Bird Outing
END:VEVENT
BEGIN:VEVENT
DTSTART;TZID=UTC:20250524T090000
DTEND;TZID=UTC:20250524T110000
DTSTAMP:20260421T214835
CREATED:20250118T203415Z
LAST-MODIFIED:20250514T014608Z
UID:8373-1748077200-1748084400@forsythaudubon.org
SUMMARY:Young Birders Outing
DESCRIPTION:The last Forsyth Audubon Young Birders outing before the summer break will be on Saturday\, May 24th at 9:00 a.m. We will meet at the Historic Bethabara Park Visitors Center located at 2147 Bethabara Rd\, Winston-Salem\, NC 27106. \nWe suggest closed-toe shoes\, snacks and beverages. Sunscreen and/or other sun protection strategies are a good idea. Bring binoculars if you have them. All children must be accompanied by a responsible adult. Although we gear the walks to the younger set\, folks of all ages are welcome to attend.
URL:https://forsythaudubon.org/event-calendar/young-birders-outing-10/
LOCATION:Bethabara Visitor Center\, 2147 Bethabara Road\, Winston-Salem\, NC\, 27106\, United States
CATEGORIES:Bird Outing
END:VEVENT
BEGIN:VEVENT
DTSTART;TZID=UTC:20250510T080000
DTEND;TZID=UTC:20250510T100000
DTSTAMP:20260421T214835
CREATED:20250118T203017Z
LAST-MODIFIED:20250126T002911Z
UID:8365-1746864000-1746871200@forsythaudubon.org
SUMMARY:Second Saturday Bird Outing
DESCRIPTION:Join outing leaders\, Jane and Craig McCleary\, at Miller Park for our Second Saturday Bird Outing in May! We will meet at the Queen Street parking area. Spring migration will be in full swing and we will be on the lookout for warblers and other migratory birds as they stop over in Miller Park on their journey north.
URL:https://forsythaudubon.org/event-calendar/second-saturday-bird-outing-13/
LOCATION:Miller Park\, 2641 Queen St\, Winston Salem\, NC\, 27103\, United States
CATEGORIES:Bird Outing
END:VEVENT
BEGIN:VEVENT
DTSTART;TZID=UTC:20250428T090000
DTEND;TZID=UTC:20250428T110000
DTSTAMP:20260421T214835
CREATED:20250118T202230Z
LAST-MODIFIED:20250208T184321Z
UID:8357-1745830800-1745838000@forsythaudubon.org
SUMMARY:Monday Bird Outing
DESCRIPTION:Join outing leader David Collins for a special Monday Bird Outing! We will be looking at birds with a focus on bird photography. This outing will be held at Muddy Creak Greenway at Jamison Park. Meet by the dog park at 9:00 AM.
URL:https://forsythaudubon.org/event-calendar/monday-bird-outing-11/
LOCATION:Muddy Creek Greenway – Jamison Park\, 285 Meadowlark Dr\, Winston-Salem\, NC\, 27106\, United States
CATEGORIES:Bird Outing
END:VEVENT
BEGIN:VEVENT
DTSTART;TZID=UTC:20250426T090000
DTEND;TZID=UTC:20250426T110000
DTSTAMP:20260421T214835
CREATED:20250118T203335Z
LAST-MODIFIED:20250420T003407Z
UID:8371-1745658000-1745665200@forsythaudubon.org
SUMMARY:Young Birders Outing
DESCRIPTION:For April’s Young Birders Outing\, we will be exploring the grounds of Reynolda! Come join us at one of the county’s most popular migration hotspots. Warblers flock to the dense trees of the Reynolda woods\, and other migratory birds can be found throughout the grounds. This will be a great opportunity to witness the full scale of spring migration in Forsyth County! We will meet at the old boathouse near Lake Katharine. \nThe walk is geared for Young Birders\, but EVERYONE is welcome and encouraged to attend. Please wear sturdy shoes. Snacks and beverages are a good idea. All young birders must be accompanied by a responsible adult.
URL:https://forsythaudubon.org/event-calendar/young-birders-outing-9/
LOCATION:Reynolda\, 144 Reynolda Village Way\, Winston-Salem\, 27106
CATEGORIES:Bird Outing
END:VEVENT
BEGIN:VEVENT
DTSTART;TZID=UTC:20250412T080000
DTEND;TZID=UTC:20250412T100000
DTSTAMP:20260421T214835
CREATED:20250118T202933Z
LAST-MODIFIED:20250118T204217Z
UID:8363-1744444800-1744452000@forsythaudubon.org
SUMMARY:Second Saturday Bird Outing
DESCRIPTION:Join outing leader Rob Rogers on April 12th at 8:00 AM for our Second Saturday Bird Outing. This outing will be at Historic Bethabara Park. We will meet at the parking lot by the visitors center. This will be a great time to catch the first glimpses of migration as early migrants should be moving through the area.
URL:https://forsythaudubon.org/event-calendar/second-saturday-bird-outing-9/
LOCATION:Bethabara Visitor Center\, 2147 Bethabara Road\, Winston-Salem\, NC\, 27106\, United States
CATEGORIES:Bird Outing
END:VEVENT
BEGIN:VEVENT
DTSTART;TZID=UTC:20250324T083000
DTEND;TZID=UTC:20250324T113000
DTSTAMP:20260421T214835
CREATED:20250118T202139Z
LAST-MODIFIED:20250208T184359Z
UID:8355-1742805000-1742815800@forsythaudubon.org
SUMMARY:Monday Bird Outing
DESCRIPTION:Join outing leader Cynthia Donaldson for our March Monday Bird Outing. This outing will be held at Long Creek Park at 8:30 AM.
URL:https://forsythaudubon.org/event-calendar/monday-bird-outing-10/
LOCATION:Long Creek Park\, 5801 Bethania Tobaccoville Road\, Pfafftown\, NC\, 27040\, United States
CATEGORIES:Bird Outing
END:VEVENT
BEGIN:VEVENT
DTSTART;TZID=UTC:20250322T100000
DTEND;TZID=UTC:20250322T120000
DTSTAMP:20260421T214835
CREATED:20250118T203243Z
LAST-MODIFIED:20250227T012349Z
UID:8369-1742637600-1742644800@forsythaudubon.org
SUMMARY:Young Birders Outing
DESCRIPTION:Join us for the March Young Birders Outing at Tanglewood Park! We will meet at 10:00 AM in the gravel parking lot across from Skilpot Lake/Shelter 3. We’ll focus on walking the Yadkin River Trail in order to see the nesting Great Blue Herons. Please remember that Tanglewood has a $2.00 park entrance fee. \nThe walk is geared for Young Birders\, but EVERYONE is welcome and encouraged to attend. Please wear sturdy shoes\, perhaps waterproof or rubber boots if there has been rain\, as the trail can be muddy. Snacks and beverages are a good idea. All young birders must be accompanied by a responsible adult.
URL:https://forsythaudubon.org/event-calendar/young-birders-outing-8/
LOCATION:Tanglewood Park Yadkin River Trail\, 4061 Clemmons Road\, Clemmons\, NC\, 27012\, United States
CATEGORIES:Bird Outing
END:VEVENT
BEGIN:VEVENT
DTSTART;TZID=UTC:20250308T183000
DTEND;TZID=UTC:20250308T203000
DTSTAMP:20260421T214835
CREATED:20241207T173505Z
LAST-MODIFIED:20250306T182127Z
UID:7255-1741458600-1741465800@forsythaudubon.org
SUMMARY:American Woodcock Second Saturday Bird Outing
DESCRIPTION:Join us on March 8th at 6:30 PM for a special evening edition of our Second Saturday Bird Outing. Meet outing leader\, Barb Borucki\, at the Muddy Creek Greenway parking lot off of Robinhood Road (4600 Robinhood Rd\, Winston-Salem\, NC 27106). We will be looking for American Woodcock which are typically seen or heard near dusk. Bring a flashlight!
URL:https://forsythaudubon.org/event-calendar/second-saturday-bird-outing-11/
LOCATION:Muddy Creek – Robinhood Road entrance\, 4600 Robinhood Road\, Wiston-Salem\, NC\, 27106\, United States
CATEGORIES:Bird Outing
END:VEVENT
BEGIN:VEVENT
DTSTART;TZID=UTC:20250224T090000
DTEND;TZID=UTC:20250224T110000
DTSTAMP:20260421T214835
CREATED:20250118T202052Z
LAST-MODIFIED:20250205T140325Z
UID:8353-1740387600-1740394800@forsythaudubon.org
SUMMARY:Monday Bird Outing
DESCRIPTION:Join us on February 24th at 9:00 AM for our February Monday Bird Outing! Meet outing leader Ann Newsome at the Bethabara Visitor Center.
URL:https://forsythaudubon.org/event-calendar/monday-bird-outing-9/
LOCATION:Bethabara Visitor Center\, 2147 Bethabara Road\, Winston-Salem\, NC\, 27106\, United States
CATEGORIES:Bird Outing
END:VEVENT
BEGIN:VEVENT
DTSTART;TZID=UTC:20250222T100000
DTEND;TZID=UTC:20250222T120000
DTSTAMP:20260421T214835
CREATED:20250118T203153Z
LAST-MODIFIED:20250219T025046Z
UID:8367-1740218400-1740225600@forsythaudubon.org
SUMMARY:Young Birders Outing
DESCRIPTION:Join us for our February Young Birders Outing at Quarry Park! This will be a special outing led by Jeremy Reiskind\, focusing on birds AND geology. Quarry park is a great place to find winter residents\, and we might come across a Red-breasted Nuthatch. \nWe strongly suggest that everyone wear sturdy\, closed-toe shoes. It is a good idea to bring snacks and a beverage. \n\nAll young birders must be accompanied by a responsible adult. Young Birders of ALL AGES are welcome and encouraged to attend!
URL:https://forsythaudubon.org/event-calendar/young-birders-outing-7/
LOCATION:Quarry Park\, 1790 Quarry Road\, Winston-Salem\, NC\, 27107\, United States
CATEGORIES:Bird Outing
END:VEVENT
BEGIN:VEVENT
DTSTART;TZID=UTC:20250208T090000
DTEND;TZID=UTC:20250208T110000
DTSTAMP:20260421T214835
CREATED:20241207T173343Z
LAST-MODIFIED:20250206T144817Z
UID:7253-1739005200-1739012400@forsythaudubon.org
SUMMARY:Second Saturday Bird Outing
DESCRIPTION:Join us at Salem Lake’s Linville Road Parking Lot for our February Second Saturday Bird Outing. Ryan Goodman will lead the outing around the trails and lake looking for a number of waterfowl and wintering birds. Meet at the Salem Lake parking lot off of Linville Road at 9:00 AM on February 8\, 2025.
URL:https://forsythaudubon.org/event-calendar/second-saturday-bird-outing-10/
LOCATION:Salem Lake Trail – Linville Parking Area\, Linville Road SE\, Winston-Salem\, NC\, 27107\, United States
CATEGORIES:Bird Outing
END:VEVENT
BEGIN:VEVENT
DTSTART;TZID=UTC:20250127T090000
DTEND;TZID=UTC:20250127T110000
DTSTAMP:20260421T214835
CREATED:20250103T164811Z
LAST-MODIFIED:20250123T233832Z
UID:7738-1737968400-1737975600@forsythaudubon.org
SUMMARY:Monday Bird Outing
DESCRIPTION:Join us Monday\, January 27th at 9:00 AM for our Monday Bird Outing! Meet at the gravel parking lot at the start of the Yadkin River Nature Trail\, opposite Skilpot Lake/Shelter 3\, entrance to BMX bike track. Note: there is a $2 entrance fee to Tanglewood (parking at Dog Park is free and you can carpool in to the start). Bernie Carr will lead the walk. We expect to see winter sparrows\, Red Headed Woodpeckers and a nice variety of other birds!
URL:https://forsythaudubon.org/event-calendar/monday-bird-outing-8/
LOCATION:Tanglewood Park Yadkin River Trail\, 4061 Clemmons Road\, Clemmons\, NC\, 27012\, United States
CATEGORIES:Bird Outing,Bird Walk
END:VEVENT
BEGIN:VEVENT
DTSTART;TZID=UTC:20250125T100000
DTEND;TZID=UTC:20250125T120000
DTSTAMP:20260421T214835
CREATED:20250103T165910Z
LAST-MODIFIED:20250103T165910Z
UID:7743-1737799200-1737806400@forsythaudubon.org
SUMMARY:Young Birders Outing
DESCRIPTION:Young Birders Outing at Salem Lake! Meet at the Salem Lake Marina on Saturday\, January 25 at 10:00 AM. \nWe strongly suggest that everyone wear sturdy\, closed-toe shoes. It is a good idea to bring snacks and a beverage. \n\nAll young birders must be accompanied by a responsible adult. Young Birders of ALL AGES are welcome and encouraged to attend!
URL:https://forsythaudubon.org/event-calendar/young-birders-outing-6/
LOCATION:Salem Lake – Marina Parking Lot\, 815 Salem Lake Road\, Winston-Salem\, NC\, 27107\, United States
CATEGORIES:Bird Outing,Bird Walk
END:VEVENT
BEGIN:VEVENT
DTSTART;TZID=UTC:20250118T090000
DTEND;TZID=UTC:20250118T110000
DTSTAMP:20260421T214835
CREATED:20250103T165532Z
LAST-MODIFIED:20250109T225231Z
UID:7741-1737190800-1737198000@forsythaudubon.org
SUMMARY:Second Saturday Bird Outing
DESCRIPTION:Join outing leader Doug DeNeve on Saturday\, January 11th at 9:00 AM\, for our Second Saturday Bird Outing! We will meet at the Salem Lake Marina which has a great opportunity to show different winter residents\, gulls\, and waterfowl.
URL:https://forsythaudubon.org/event-calendar/second-saturday-bird-outing-12/
LOCATION:Salem Lake – Marina Parking Lot\, 815 Salem Lake Road\, Winston-Salem\, NC\, 27107\, United States
CATEGORIES:Bird Outing,Bird Walk
END:VEVENT
BEGIN:VEVENT
DTSTART;VALUE=DATE:20241228
DTEND;VALUE=DATE:20241229
DTSTAMP:20260421T214835
CREATED:20240806T150158Z
LAST-MODIFIED:20240806T150234Z
UID:5928-1735344000-1735430399@forsythaudubon.org
SUMMARY:Forsyth Audubon Christmas Bird Count
DESCRIPTION:Forsyth Audubon will have their Christmas Bird Count on December 28\, 2024.
URL:https://forsythaudubon.org/event-calendar/forsyth-audubon-christmas-bird-count/
LOCATION:NC
CATEGORIES:Bird Count,Bird Outing,Bird Walk
END:VEVENT
BEGIN:VEVENT
DTSTART;TZID=UTC:20241214T090000
DTEND;TZID=UTC:20241214T110000
DTSTAMP:20260421T214835
CREATED:20240923T000900Z
LAST-MODIFIED:20241130T153030Z
UID:6616-1734166800-1734174000@forsythaudubon.org
SUMMARY:Second Saturday Bird Outing
DESCRIPTION:The Second Saturday Bird Outing will be at Reynolda\, on December 14th. Meet our leader\, Rob Rogers\, at the Boat House at 9:00 AM. In addition to birds on the lake\, we will look for winter visitors in the woods and fields.
URL:https://forsythaudubon.org/event-calendar/second-saturday-bird-outing-8/
LOCATION:Reynolda\, 144 Reynolda Village Way\, Winston-Salem\, 27106
CATEGORIES:Bird Outing,Bird Walk
END:VEVENT
BEGIN:VEVENT
DTSTART;TZID=UTC:20241125T090000
DTEND;TZID=UTC:20241125T110000
DTSTAMP:20260421T214835
CREATED:20240806T151910Z
LAST-MODIFIED:20241024T174317Z
UID:5937-1732525200-1732532400@forsythaudubon.org
SUMMARY:Monday Bird Outing
DESCRIPTION:November’s Monday Bird Outing will be held at Jamison Park / Muddy Creek Greenway on November 25th at 9:00 AM. We will meet at the parking lot beside the dog park. Chris Marsh will lead the outing\, focusing on winter sparrows!
URL:https://forsythaudubon.org/event-calendar/monday-bird-outing-7/
LOCATION:Muddy Creek Greenway – Jamison Park\, 285 Meadowlark Dr\, Winston-Salem\, NC\, 27106\, United States
CATEGORIES:Bird Outing,Bird Walk
END:VEVENT
BEGIN:VEVENT
DTSTART;TZID=UTC:20241123T100000
DTEND;TZID=UTC:20241123T120000
DTSTAMP:20260421T214835
CREATED:20240807T020406Z
LAST-MODIFIED:20241011T175043Z
UID:6007-1732356000-1732363200@forsythaudubon.org
SUMMARY:Young Birders Outing
DESCRIPTION:Young Birders Outing at Muddy Creek Greenway – Jamison Park! \nMeet in paved lot near dog park and maintenance shed. We strongly suggest that everyone wear sturdy\, closed-toe shoes. It is a good idea to bring snacks and a beverage. \n\nAll young birders must be accompanied by a responsible adult. Young Birders of ALL AGES are welcome and encouraged to attend!
URL:https://forsythaudubon.org/event-calendar/young-birders-outing-5/
LOCATION:Muddy Creek Greenway – Jamison Park\, 285 Meadowlark Dr\, Winston-Salem\, NC\, 27106\, United States
CATEGORIES:Bird Outing,Bird Walk,Nature Outing
END:VEVENT
BEGIN:VEVENT
DTSTART;TZID=UTC:20241109T090000
DTEND;TZID=UTC:20241109T110000
DTSTAMP:20260421T214835
CREATED:20240923T000800Z
LAST-MODIFIED:20241021T234600Z
UID:6614-1731142800-1731150000@forsythaudubon.org
SUMMARY:Second Saturday Bird Outing
DESCRIPTION:Join outing leader Don Lendle on Saturday\, November 9th at 9:00 AM for our Second Saturday Bird Outing! The outing will be at the Thomas Trail at Crossnore. We will meet at the Gillette Street entrance. This is the Dr. C.D. Hauser trailhead.
URL:https://forsythaudubon.org/event-calendar/second-saturday-bird-outing-7/
LOCATION:Stuart and Emma Thomas Memorial Trail – Gillete Street\, 949 Gillete St.\, Winston-Salem\, NC\, 27105\, United States
CATEGORIES:Bird Outing,Bird Walk
END:VEVENT
BEGIN:VEVENT
DTSTART;TZID=UTC:20241028T090000
DTEND;TZID=UTC:20241028T110000
DTSTAMP:20260421T214835
CREATED:20240806T151341Z
LAST-MODIFIED:20240922T235033Z
UID:5935-1730106000-1730113200@forsythaudubon.org
SUMMARY:Monday Bird Outing
DESCRIPTION:October’s Monday Bird Outing will be held at Salem Lake on October 28th. Meet co-leaders Jean Chamberlain and Catherine Wandell in the parking lot by the Salem Lake Marina at 9:00 AM. We will look for any wintering birds\, as well as year round birds. We usually have a nice assortment of woodpeckers\, nuthatches\, and thrushes.
URL:https://forsythaudubon.org/event-calendar/monday-bird-outing-6/
LOCATION:Salem Lake – Marina Parking Lot\, 815 Salem Lake Road\, Winston-Salem\, NC\, 27107\, United States
CATEGORIES:Bird Outing,Bird Walk
END:VEVENT
BEGIN:VEVENT
DTSTART;TZID=UTC:20241026T100000
DTEND;TZID=UTC:20241026T110000
DTSTAMP:20260421T214835
CREATED:20240807T020240Z
LAST-MODIFIED:20240917T001224Z
UID:6005-1729936800-1729940400@forsythaudubon.org
SUMMARY:Young Birders Outing
DESCRIPTION:Young Birders’ Outing at Tanglewood Park \nSaturday\, October 26th at 10:00 a.m. (note later time) \nLeader: Dan Helm\, ably assisted by Henry & Josie \nWe will meet in the gravel parking lot across from Skilpot Lake\, at the entrance to the BMX / Nature Trail. Please wear sturdy\, closed-toe shoes and bring snacks/beverages. All young birders must be accompanied by a responsible adult. \nAlong the way\, we will pay attention to multiple facets of nature. Although the walk is geared for kids\, EVERYONE is welcome to join the fun of discovery!
URL:https://forsythaudubon.org/event-calendar/young-birders-outing-4/
LOCATION:Tanglewood Park Yadkin River Trail\, 4061 Clemmons Road\, Clemmons\, NC\, 27012\, United States
CATEGORIES:Bird Outing,Bird Walk,Nature Outing
END:VEVENT
BEGIN:VEVENT
DTSTART;TZID=UTC:20241012T080000
DTEND;TZID=UTC:20241012T100000
DTSTAMP:20260421T214835
CREATED:20240806T141959Z
LAST-MODIFIED:20241011T172116Z
UID:5899-1728720000-1728727200@forsythaudubon.org
SUMMARY:Second Saturday Bird Outing at Washington Park
DESCRIPTION:Join outing leader Doug Demarest on Saturday\, October 12th at 8:00 AM for our Second Saturday Bird Outing! The outing will be at Washington Park. We will meet at the dog park parking lot. The entrance to this lot is off of Bond Street\, which is South of the old entrance. This will be a great time to look for fall migrants!
URL:https://forsythaudubon.org/event-calendar/second-saturday-bird-outing-at-washington-park/
LOCATION:Washington Park\, 1490 S. Broad St.\, Winston-Salem\, NC\, 27127\, United States
CATEGORIES:Bird Outing,Bird Walk
END:VEVENT
BEGIN:VEVENT
DTSTART;TZID=UTC:20240928T090000
DTEND;TZID=UTC:20240928T110000
DTSTAMP:20260421T214835
CREATED:20240807T020133Z
LAST-MODIFIED:20240819T144424Z
UID:6003-1727514000-1727521200@forsythaudubon.org
SUMMARY:Young Birders Outing
DESCRIPTION:Join us for a very special Young Birders Outing: BIRDING AND GEOLOGY (you might say\, Birds Rock!). \nThis outing will be at the Gateway Nature Preserve at Washington Park. Parking for this outing will be at the Family Services paved parking lot – 1200 S. Broad Street\, Winston-Salem\, NC 27101. \nSpecial expert leader\, Jeremy Reiskind\, will lead the outing. Jeremy is a lifelong birder and retired Geology Professor\, UNC School of the Arts. He will show us birds and teach us about the special geological features and stream ecology of the Washington Park / Gateway Preserve area. \nAll Young Birders must be accompanied by a responsible adult. We encourage everyone to bring a snack and water. Please wear sturdy\, closed-toe shoes. Though this walk is geared for the younger set\, ALL AGES are welcome and encouraged to attend!
URL:https://forsythaudubon.org/event-calendar/young-birders-outing-3/
LOCATION:Washington Park – 1200 S. Broad Parking\, 1200 S. Broad Street\, Winston-Salem\, NC\, 27101\, United States
CATEGORIES:Bird Outing,Bird Walk,Nature Outing
END:VEVENT
BEGIN:VEVENT
DTSTART;TZID=UTC:20240923T090000
DTEND;TZID=UTC:20240923T110000
DTSTAMP:20260421T214835
CREATED:20240806T151131Z
LAST-MODIFIED:20240819T133757Z
UID:5933-1727082000-1727089200@forsythaudubon.org
SUMMARY:Monday Bird Outing
DESCRIPTION:Join David and Susan Disher as they lead the Monday Bird Outing on September 23. This outing will be at Bethabara Park\, starting at 9:00 AM. We will meet at the Visitors Center. From there we will bird the park looking for fall migrants\, as well as summer birds and year around birds.
URL:https://forsythaudubon.org/event-calendar/monday-bird-outing-5/
LOCATION:Bethabara Visitor Center\, 2147 Bethabara Road\, Winston-Salem\, NC\, 27106\, United States
CATEGORIES:Bird Outing,Bird Walk
END:VEVENT
END:VCALENDAR