BEGIN:VCALENDAR
VERSION:2.0
PRODID:-//Forsyth Audubon Society - ECPv6.15.20//NONSGML v1.0//EN
CALSCALE:GREGORIAN
METHOD:PUBLISH
X-ORIGINAL-URL:https://forsythaudubon.org
X-WR-CALDESC:Events for Forsyth Audubon Society
REFRESH-INTERVAL;VALUE=DURATION:PT1H
X-Robots-Tag:noindex
X-PUBLISHED-TTL:PT1H
BEGIN:VTIMEZONE
TZID:UTC
BEGIN:STANDARD
TZOFFSETFROM:+0000
TZOFFSETTO:+0000
TZNAME:UTC
DTSTART:20230101T000000
END:STANDARD
END:VTIMEZONE
BEGIN:VEVENT
DTSTART;TZID=UTC:20240608T080000
DTEND;TZID=UTC:20240608T100000
DTSTAMP:20260423T012126
CREATED:20240420T123439Z
LAST-MODIFIED:20240509T103756Z
UID:5466-1717833600-1717840800@forsythaudubon.org
SUMMARY:Second Saturday Bird Outing at Horizons Park
DESCRIPTION:Join outing leader Alison Gagnon at Horizons Park.
URL:https://forsythaudubon.org/event-calendar/second-saturday-bird-outing-4/
LOCATION:Horizons Park\, 2835 Memorial Industrial School Road\, Germanton\, NC\, 27019\, United States
CATEGORIES:Bird Outing,Bird Walk
END:VEVENT
BEGIN:VEVENT
DTSTART;TZID=UTC:20240624T080000
DTEND;TZID=UTC:20240624T100000
DTSTAMP:20260423T012126
CREATED:20240610T010416Z
LAST-MODIFIED:20240610T010416Z
UID:5593-1719216000-1719223200@forsythaudubon.org
SUMMARY:Monday Bird Outing
DESCRIPTION:Join outing leader Doug DeNeve at Long Creek Park. We hope to see many summer residents including Yellow Breasted Chat\, Prairie Warbler\, Summer and Scarlet Tanagers\, maybe Orchard or Baltimore Orioles\, and others.
URL:https://forsythaudubon.org/event-calendar/monday-bird-outing-2/
LOCATION:Long Creek Park\, 5801 Bethania Tobaccoville Road\, Pfafftown\, NC\, 27040\, United States
CATEGORIES:Bird Outing,Bird Walk,Nature Outing
END:VEVENT
BEGIN:VEVENT
DTSTART;TZID=UTC:20240629T093000
DTEND;TZID=UTC:20240629T113000
DTSTAMP:20260423T012126
CREATED:20240610T010815Z
LAST-MODIFIED:20240610T010815Z
UID:5595-1719653400-1719660600@forsythaudubon.org
SUMMARY:Young Birders' Outing at Long Creek Park
DESCRIPTION:We’ll meet at the large shelter at the end of the parking lot. We recommend closed-toe shoes\, water or juice\, and snacks. All children must be accompanied by a responsible adult. This walk is geared towards young birders\, but everyone is welcome to attend!
URL:https://forsythaudubon.org/event-calendar/young-birders-outing-at-long-creek-park/
LOCATION:Long Creek Park\, 5801 Bethania Tobaccoville Road\, Pfafftown\, NC\, 27040\, United States
CATEGORIES:Bird Outing,Bird Walk,Nature Outing
END:VEVENT
END:VCALENDAR