BEGIN:VCALENDAR
VERSION:2.0
PRODID:-//Forsyth Audubon Society - ECPv6.15.20//NONSGML v1.0//EN
CALSCALE:GREGORIAN
METHOD:PUBLISH
X-ORIGINAL-URL:https://forsythaudubon.org
X-WR-CALDESC:Events for Forsyth Audubon Society
REFRESH-INTERVAL;VALUE=DURATION:PT1H
X-Robots-Tag:noindex
X-PUBLISHED-TTL:PT1H
BEGIN:VTIMEZONE
TZID:UTC
BEGIN:STANDARD
TZOFFSETFROM:+0000
TZOFFSETTO:+0000
TZNAME:UTC
DTSTART:20240101T000000
END:STANDARD
END:VTIMEZONE
BEGIN:VEVENT
DTSTART;TZID=UTC:20251108T090000
DTEND;TZID=UTC:20251108T110000
DTSTAMP:20260421T232309
CREATED:20251020T125734Z
LAST-MODIFIED:20251029T162943Z
UID:9857-1762592400-1762599600@forsythaudubon.org
SUMMARY:Second Saturday Bird Walk
DESCRIPTION:Join us on Saturday\, November 8th\, 2025\, for the Second Saturday bird walk. We will enjoy both looking for Reynolda’s fall birds and taking a leisurely walk along the trails to learn about the history of Reynolda’s waterways. As we look for birds\, our trip leader\, Dave Zimmer\, will also share his research on the history of Reynolda’s natural and constructed waterways that support birds and habitat. Please meet trip leader Dave at Lake Katherine in front of the Reynolda Boat House at 9:00 AM.
URL:https://forsythaudubon.org/event-calendar/second-saturday-bird-walk-5/
LOCATION:Reynolda\, 144 Reynolda Village Way\, Winston-Salem\, 27106
CATEGORIES:Bird Walk
END:VEVENT
BEGIN:VEVENT
DTSTART;TZID=UTC:20251124T090000
DTEND;TZID=UTC:20251124T110000
DTSTAMP:20260421T232309
CREATED:20251016T163245Z
LAST-MODIFIED:20251029T163334Z
UID:9842-1763974800-1763982000@forsythaudubon.org
SUMMARY:Fourth Monday Bird Walk
DESCRIPTION:Mark your calendars for Monday\, November 24th for our Forsyth Audubon Monday Bird Walk at Quarry Park!  We will meet in the parking lot at 9:00 am. \nThis park has some nice forest edge for kinglets\, nuthatches\, yellow-rumped warblers\, and thrashers! The fields provide opportunities to see a variety of sparrows! Plus\, it is always cool to see the old quarry! \nDirections from their webpage:  “Quarry at the Grant Park is located at 1790 Quarry Road. Enter off Reynolds Park Road\, next to the tennis courts at the William R. Anderson Recreation Center and across from Reynolds Park Golf Course.”
URL:https://forsythaudubon.org/event-calendar/fourth-monday-bird-walk-2/
LOCATION:Quarry Park\, 1790 Quarry Road\, Winston-Salem\, NC\, 27107\, United States
CATEGORIES:Bird Walk
END:VEVENT
END:VCALENDAR