BEGIN:VCALENDAR
VERSION:2.0
PRODID:-//Forsyth Audubon Society - ECPv6.15.20//NONSGML v1.0//EN
CALSCALE:GREGORIAN
METHOD:PUBLISH
X-ORIGINAL-URL:https://forsythaudubon.org
X-WR-CALDESC:Events for Forsyth Audubon Society
REFRESH-INTERVAL;VALUE=DURATION:PT1H
X-Robots-Tag:noindex
X-PUBLISHED-TTL:PT1H
BEGIN:VTIMEZONE
TZID:UTC
BEGIN:STANDARD
TZOFFSETFROM:+0000
TZOFFSETTO:+0000
TZNAME:UTC
DTSTART:20230101T000000
END:STANDARD
END:VTIMEZONE
BEGIN:VEVENT
DTSTART;TZID=UTC:20240309T180000
DTEND;TZID=UTC:20240309T180000
DTSTAMP:20260423T073758
CREATED:20240310T000540Z
LAST-MODIFIED:20240310T004758Z
UID:4889-1710007200-1710007200@forsythaudubon.org
SUMMARY:Second Saturday Bird Outing
DESCRIPTION:Join us for a special evening outing as we search for Woodcocks along Muddy Creek Greenway.  Meet in the Robinhood Road parking lot for Muddy Creek Greenway.
URL:https://forsythaudubon.org/event-calendar/second-saturday-bird-outing-2/
LOCATION:Muddy Creek – Robinhood Road entrance\, 4600 Robinhood Road\, Wiston-Salem\, NC\, 27106\, United States
CATEGORIES:Bird Outing,Bird Walk,Nature Outing
END:VEVENT
END:VCALENDAR