BEGIN:VCALENDAR
VERSION:2.0
PRODID:-//Forsyth Audubon Society - ECPv6.15.20//NONSGML v1.0//EN
CALSCALE:GREGORIAN
METHOD:PUBLISH
X-ORIGINAL-URL:https://forsythaudubon.org
X-WR-CALDESC:Events for Forsyth Audubon Society
REFRESH-INTERVAL;VALUE=DURATION:PT1H
X-Robots-Tag:noindex
X-PUBLISHED-TTL:PT1H
BEGIN:VTIMEZONE
TZID:UTC
BEGIN:STANDARD
TZOFFSETFROM:+0000
TZOFFSETTO:+0000
TZNAME:UTC
DTSTART:20230101T000000
END:STANDARD
END:VTIMEZONE
BEGIN:VEVENT
DTSTART;TZID=UTC:20240413T080000
DTEND;TZID=UTC:20240413T100000
DTSTAMP:20260423T055905
CREATED:20240309T221338Z
LAST-MODIFIED:20240310T004137Z
UID:4847-1712995200-1713002400@forsythaudubon.org
SUMMARY:Second Saturday Bird Outing
DESCRIPTION:Join outing leader Rob Rogers at Reynolda.  Spring migration will be starting\, and Reynolda is a great place to spot our spring migrants.  We will meet in the lower parking lot of Reynolda Village nearest to the Lake Katherine boat house.
URL:https://forsythaudubon.org/event-calendar/second-saturday-bird-outing/
LOCATION:Reynolda\, 144 Reynolda Village Way\, Winston-Salem\, 27106
CATEGORIES:Bird Outing,Bird Walk,Nature Outing
END:VEVENT
END:VCALENDAR