BEGIN:VCALENDAR
VERSION:2.0
PRODID:-//Forsyth Audubon Society - ECPv6.15.20//NONSGML v1.0//EN
CALSCALE:GREGORIAN
METHOD:PUBLISH
X-WR-CALNAME:Forsyth Audubon Society
X-ORIGINAL-URL:https://forsythaudubon.org
X-WR-CALDESC:Events for Forsyth Audubon Society
REFRESH-INTERVAL;VALUE=DURATION:PT1H
X-Robots-Tag:noindex
X-PUBLISHED-TTL:PT1H
BEGIN:VTIMEZONE
TZID:UTC
BEGIN:STANDARD
TZOFFSETFROM:+0000
TZOFFSETTO:+0000
TZNAME:UTC
DTSTART:20230101T000000
END:STANDARD
END:VTIMEZONE
BEGIN:VEVENT
DTSTART;TZID=UTC:20240824T090000
DTEND;TZID=UTC:20240824T110000
DTSTAMP:20260422T235342
CREATED:20240806T143540Z
LAST-MODIFIED:20240818T182213Z
UID:5905-1724490000-1724497200@forsythaudubon.org
SUMMARY:Young Birders Outing at Reynolda (change in venue from earlier posting)
DESCRIPTION:Note the venue has changed on this event from its earlier posting. This event is now being held at Reynolda! \nWe hope to see you on Saturday\, August 24th at 9:00 AM for our August Young Birders Walk! This walk will be at Reynolda. We will meet at the Lake Katharine Boat House. You can park in the lower parking lot near the wetlands\, and we will gather at the boat house. \nAll Young Birders must be accompanied by a responsible adult. We encourage everyone to bring a snack and water. Please wear sturdy\, closed-toe shoes. Though this walk is geared for the younger set\, ALL AGES are welcome and encouraged to attend!
URL:https://forsythaudubon.org/event-calendar/young-birders-outing-at-reynolda/
LOCATION:Reynolda\, 144 Reynolda Village Way\, Winston-Salem\, 27106
CATEGORIES:Bird Outing,Bird Walk,Nature Outing
END:VEVENT
END:VCALENDAR