BEGIN:VCALENDAR
VERSION:2.0
PRODID:-//Forsyth Audubon Society - ECPv6.15.20//NONSGML v1.0//EN
CALSCALE:GREGORIAN
METHOD:PUBLISH
X-ORIGINAL-URL:https://forsythaudubon.org
X-WR-CALDESC:Events for Forsyth Audubon Society
REFRESH-INTERVAL;VALUE=DURATION:PT1H
X-Robots-Tag:noindex
X-PUBLISHED-TTL:PT1H
BEGIN:VTIMEZONE
TZID:UTC
BEGIN:STANDARD
TZOFFSETFROM:+0000
TZOFFSETTO:+0000
TZNAME:UTC
DTSTART:20240101T000000
END:STANDARD
END:VTIMEZONE
BEGIN:VEVENT
DTSTART;TZID=UTC:20250913T080000
DTEND;TZID=UTC:20250913T080000
DTSTAMP:20260422T040436
CREATED:20250826T040537Z
LAST-MODIFIED:20250826T040613Z
UID:9573-1757750400-1757750400@forsythaudubon.org
SUMMARY:September Second Saturday Bird Walk
DESCRIPTION:Our monthly Second Saturday Bird walk in September will be at one of our long-time favorite birding locations – Miller Park. Plan to join trip leader Allison Gagnon on September 13 for what should be a lovely stroll through this beautiful city park in the Ardmore neighborhood. The park is well-known as a good location for warblers\, thrushes\, etc. Fall migration should be well underway\, so who knows what we might see? We’ll meet in the Queen Street parking lot at 8:00 AM. (2641-2649 Queen St\, Winston-Salem\, NC 27103) See you there!
URL:https://forsythaudubon.org/event-calendar/september-second-saturday-bird-walk/
LOCATION:Miller Park\, 2641 Queen St\, Winston Salem\, NC\, 27103\, United States
CATEGORIES:Bird Walk
END:VEVENT
END:VCALENDAR