BEGIN:VCALENDAR
VERSION:2.0
PRODID:-//Forsyth Audubon Society - ECPv6.15.20//NONSGML v1.0//EN
CALSCALE:GREGORIAN
METHOD:PUBLISH
X-WR-CALNAME:Forsyth Audubon Society
X-ORIGINAL-URL:https://forsythaudubon.org
X-WR-CALDESC:Events for Forsyth Audubon Society
REFRESH-INTERVAL;VALUE=DURATION:PT1H
X-Robots-Tag:noindex
X-PUBLISHED-TTL:PT1H
BEGIN:VTIMEZONE
TZID:UTC
BEGIN:STANDARD
TZOFFSETFROM:+0000
TZOFFSETTO:+0000
TZNAME:UTC
DTSTART:20240101T000000
END:STANDARD
END:VTIMEZONE
BEGIN:VEVENT
DTSTART;TZID=UTC:20251006T083000
DTEND;TZID=UTC:20251006T100000
DTSTAMP:20260422T023426
CREATED:20250924T145536Z
LAST-MODIFIED:20250924T145536Z
UID:9781-1759739400-1759744800@forsythaudubon.org
SUMMARY:Bird Watching 101: An Introduction to Backyard Birds
DESCRIPTION:Join Rob Rogers at the beautiful Paul J. Ciener Botanical Garden to lean about the different birds in your back yard. This program will begin with a brief introduction into birdwatching and then move outside to put your new skills to the test!  \nREGISTER HERE for this free workshop!
URL:https://forsythaudubon.org/event-calendar/bird-watching-101-an-introduction-to-backyard-birds/
LOCATION:Paul J. Ciener Botanical Garden\, 215 S Main St\, Kernersville\, NC\, 27284\, United States
CATEGORIES:Bird Class,Bird Walk
END:VEVENT
END:VCALENDAR