BEGIN:VCALENDAR
VERSION:2.0
PRODID:-//Forsyth Audubon Society - ECPv6.15.20//NONSGML v1.0//EN
CALSCALE:GREGORIAN
METHOD:PUBLISH
X-WR-CALNAME:Forsyth Audubon Society
X-ORIGINAL-URL:https://forsythaudubon.org
X-WR-CALDESC:Events for Forsyth Audubon Society
REFRESH-INTERVAL;VALUE=DURATION:PT1H
X-Robots-Tag:noindex
X-PUBLISHED-TTL:PT1H
BEGIN:VTIMEZONE
TZID:America/Halifax
BEGIN:DAYLIGHT
TZOFFSETFROM:-0400
TZOFFSETTO:-0300
TZNAME:ADT
DTSTART:20240310T060000
END:DAYLIGHT
BEGIN:STANDARD
TZOFFSETFROM:-0300
TZOFFSETTO:-0400
TZNAME:AST
DTSTART:20241103T050000
END:STANDARD
BEGIN:DAYLIGHT
TZOFFSETFROM:-0400
TZOFFSETTO:-0300
TZNAME:ADT
DTSTART:20250309T060000
END:DAYLIGHT
BEGIN:STANDARD
TZOFFSETFROM:-0300
TZOFFSETTO:-0400
TZNAME:AST
DTSTART:20251102T050000
END:STANDARD
BEGIN:DAYLIGHT
TZOFFSETFROM:-0400
TZOFFSETTO:-0300
TZNAME:ADT
DTSTART:20260308T060000
END:DAYLIGHT
BEGIN:STANDARD
TZOFFSETFROM:-0300
TZOFFSETTO:-0400
TZNAME:AST
DTSTART:20261101T050000
END:STANDARD
END:VTIMEZONE
BEGIN:VTIMEZONE
TZID:UTC
BEGIN:STANDARD
TZOFFSETFROM:+0000
TZOFFSETTO:+0000
TZNAME:UTC
DTSTART:20240101T000000
END:STANDARD
END:VTIMEZONE
BEGIN:VEVENT
DTSTART;TZID=America/Halifax:20250928T090000
DTEND;TZID=America/Halifax:20250928T090000
DTSTAMP:20260422T221018
CREATED:20250906T194422Z
LAST-MODIFIED:20250906T194456Z
UID:9695-1759050000-1759050000@forsythaudubon.org
SUMMARY:September Young Birders Walk
DESCRIPTION:Meeting location: Parking lot next to Greenbrier Community Pool on Greenbrier Farm Road\, Winston-Salem \nChris Marsh and Jessica Tate will co-lead the season’s first Young Birder’s Walk on a section of the greenway that parallels Mill Creek.  This section of the greenway is paved and has excellent habitat for birds\, butterflies\, wildflowers and turtles (if it is sunny). Binoculars will be provided.  Youth of all ages are invited as well as those who are just young at heart!\nLink to location: https://maps.app.goo.gl/DRTk3twq6cCw1cDH7\nQuestions?  Email Chris Marsh at cmarshlci@gmail.com
URL:https://forsythaudubon.org/event-calendar/september-young-birders-walk/
LOCATION:Greenbrier Community Pool\, 4233 Greenbrier Farm Rd\, Winston-Salem\, NC\, 27106\, United States
CATEGORIES:Bird Walk
END:VEVENT
BEGIN:VEVENT
DTSTART;TZID=UTC:20251006T083000
DTEND;TZID=UTC:20251006T100000
DTSTAMP:20260422T221018
CREATED:20250924T145536Z
LAST-MODIFIED:20250924T145536Z
UID:9781-1759739400-1759744800@forsythaudubon.org
SUMMARY:Bird Watching 101: An Introduction to Backyard Birds
DESCRIPTION:Join Rob Rogers at the beautiful Paul J. Ciener Botanical Garden to lean about the different birds in your back yard. This program will begin with a brief introduction into birdwatching and then move outside to put your new skills to the test!  \nREGISTER HERE for this free workshop!
URL:https://forsythaudubon.org/event-calendar/bird-watching-101-an-introduction-to-backyard-birds/
LOCATION:Paul J. Ciener Botanical Garden\, 215 S Main St\, Kernersville\, NC\, 27284\, United States
CATEGORIES:Bird Class,Bird Walk
END:VEVENT
BEGIN:VEVENT
DTSTART;TZID=UTC:20251027T083000
DTEND;TZID=UTC:20251027T103000
DTSTAMP:20260422T221018
CREATED:20251016T163133Z
LAST-MODIFIED:20251023T134440Z
UID:9840-1761553800-1761561000@forsythaudubon.org
SUMMARY:Fourth Monday Bird Walk
DESCRIPTION:The 4th Monday birdwalk will be at Long Creek Park October 27. Join trip leader\, Doug DeNeve\, at 8:30 a.m. to search for fall migrants or early wintering species. Long Creek Park was an old golf course so the terrain is quite hilly with some steep slopes. Parts of the trail are paved cart paths. The grass can be very wet so waterproof footwear is a good idea.  Bring water\, snacks\, hat\, sun protection.
URL:https://forsythaudubon.org/event-calendar/fourth-monday-bird-walk/
LOCATION:Long Creek Park\, 5801 Bethania Tobaccoville Road\, Pfafftown\, NC\, 27040\, United States
CATEGORIES:Bird Walk
END:VEVENT
BEGIN:VEVENT
DTSTART;TZID=UTC:20251108T090000
DTEND;TZID=UTC:20251108T110000
DTSTAMP:20260422T221018
CREATED:20251020T125734Z
LAST-MODIFIED:20251029T162943Z
UID:9857-1762592400-1762599600@forsythaudubon.org
SUMMARY:Second Saturday Bird Walk
DESCRIPTION:Join us on Saturday\, November 8th\, 2025\, for the Second Saturday bird walk. We will enjoy both looking for Reynolda’s fall birds and taking a leisurely walk along the trails to learn about the history of Reynolda’s waterways. As we look for birds\, our trip leader\, Dave Zimmer\, will also share his research on the history of Reynolda’s natural and constructed waterways that support birds and habitat. Please meet trip leader Dave at Lake Katherine in front of the Reynolda Boat House at 9:00 AM.
URL:https://forsythaudubon.org/event-calendar/second-saturday-bird-walk-5/
LOCATION:Reynolda\, 144 Reynolda Village Way\, Winston-Salem\, 27106
CATEGORIES:Bird Walk
END:VEVENT
BEGIN:VEVENT
DTSTART;TZID=UTC:20251124T090000
DTEND;TZID=UTC:20251124T110000
DTSTAMP:20260422T221018
CREATED:20251016T163245Z
LAST-MODIFIED:20251029T163334Z
UID:9842-1763974800-1763982000@forsythaudubon.org
SUMMARY:Fourth Monday Bird Walk
DESCRIPTION:Mark your calendars for Monday\, November 24th for our Forsyth Audubon Monday Bird Walk at Quarry Park!  We will meet in the parking lot at 9:00 am. \nThis park has some nice forest edge for kinglets\, nuthatches\, yellow-rumped warblers\, and thrashers! The fields provide opportunities to see a variety of sparrows! Plus\, it is always cool to see the old quarry! \nDirections from their webpage:  “Quarry at the Grant Park is located at 1790 Quarry Road. Enter off Reynolds Park Road\, next to the tennis courts at the William R. Anderson Recreation Center and across from Reynolds Park Golf Course.”
URL:https://forsythaudubon.org/event-calendar/fourth-monday-bird-walk-2/
LOCATION:Quarry Park\, 1790 Quarry Road\, Winston-Salem\, NC\, 27107\, United States
CATEGORIES:Bird Walk
END:VEVENT
BEGIN:VEVENT
DTSTART;TZID=UTC:20251213T090000
DTEND;TZID=UTC:20251213T090000
DTSTAMP:20260422T221018
CREATED:20251020T131706Z
LAST-MODIFIED:20251020T140040Z
UID:9859-1765616400-1765616400@forsythaudubon.org
SUMMARY:Second Saturday Bird Walk
DESCRIPTION:Join us at the Stuart & Emma Thomas Memorial Trail for our last bird outing of 2025! Be sure to meet us at the Gilette Street trailhead.
URL:https://forsythaudubon.org/event-calendar/second-saturday-bird-walk-6/
LOCATION:Stuart and Emma Thomas Memorial Trail – Gillete Street\, 949 Gillete St.\, Winston-Salem\, NC\, 27105\, United States
CATEGORIES:Bird Walk
END:VEVENT
BEGIN:VEVENT
DTSTART;TZID=UTC:20260214T090000
DTEND;TZID=UTC:20260214T090000
DTSTAMP:20260422T221018
CREATED:20251016T162300Z
LAST-MODIFIED:20260208T164026Z
UID:9832-1771059600-1771059600@forsythaudubon.org
SUMMARY:Second Saturday Bird Walk
DESCRIPTION:Join Ryan Goodman and Kristin Giordano for the Second Saturday Bird Walk at Yadkin Memorial Park! This outing may involve a longer drive than usual\, depending on where you’re coming from\, but it’s well worth the trip. We’ll meet at 9:00 AM in the Marina parking lot (restrooms available) before setting out to scan Lake Hampton for overwintering waterfowl. From there\, we’ll explore Deep Creek along a mostly gravel path with gentle\, rolling hills. The walk will cover approximately two miles. Beginner birders\, as always\, are welcome\, and loaner binoculars will be available!
URL:https://forsythaudubon.org/event-calendar/second-saturday-bird-walk/
LOCATION:Yadkin Memorial Park\, 1142 Crystal Lane\, Yadkinville\, NC\, 27055\, United States
CATEGORIES:Bird Walk
END:VEVENT
BEGIN:VEVENT
DTSTART;TZID=UTC:20260314T090000
DTEND;TZID=UTC:20260314T110000
DTSTAMP:20260422T221018
CREATED:20251016T162528Z
LAST-MODIFIED:20260307T232027Z
UID:9834-1773478800-1773486000@forsythaudubon.org
SUMMARY:Second Saturday Bird Walk
DESCRIPTION:Join Dan Helm at Bethania’s Black Walnut Bottom Trail to observe birds on the cusp of migration! We may get a blend of winter and spring migrants\, and hope to see the finished bridges along the trail. \nThe trail is a 1.4 mile generally easy route. Please park in the lot next to the Bethania Visitor’s Center.
URL:https://forsythaudubon.org/event-calendar/second-saturday-bird-walk-2/
LOCATION:Bethania Black Walnut Bottoms\, 5393 Ham Horton Lane\, Bethania\, NC\, 27010\, United States
CATEGORIES:Bird Walk
END:VEVENT
BEGIN:VEVENT
DTSTART;TZID=UTC:20260323T090000
DTEND;TZID=UTC:20260323T110000
DTSTAMP:20260422T221018
CREATED:20251016T164027Z
LAST-MODIFIED:20260307T232147Z
UID:9846-1774256400-1774263600@forsythaudubon.org
SUMMARY:Fourth Monday Bird Outing
DESCRIPTION:Fourth Monday Birding at Winston Lake. We’ll meet at the north end of the lake parking lot by the pier. Late March is the end of “weird duck season” so we’ll scan the water for any lingering waterfowl. It also is the start of spring migration. The habitat at the lake is perfect for the vanguards of that northward movement\, Louisiana Waterthrush\, Common Yellowthroat\, and various swallow species. We’ll patrol the water’s edge in hopes of scrounging up some “first of springs”. We’ll keep the walk short and flat\, but things may get a bit muddy!
URL:https://forsythaudubon.org/event-calendar/fourth-monday-bird-outing/
LOCATION:Winston Lake Park\, 1344 Winston Park Dr\, Winston-Salem\, NC\, 27105\, United States
CATEGORIES:Bird Walk
END:VEVENT
BEGIN:VEVENT
DTSTART;TZID=UTC:20260427T000000
DTEND;TZID=UTC:20260427T000000
DTSTAMP:20260422T221018
CREATED:20251016T164221Z
LAST-MODIFIED:20251016T164221Z
UID:9849-1777248000-1777248000@forsythaudubon.org
SUMMARY:Fourth Monday Bird Walk
DESCRIPTION:Join us for the April Fourth Monday Bird Walk at the beautiful Reynolda Gardens\, with spring migration in full swing! More details forthcoming.
URL:https://forsythaudubon.org/event-calendar/fourth-monday-bird-walk-4/
LOCATION:Reynolda\, 144 Reynolda Village Way\, Winston-Salem\, 27106
CATEGORIES:Bird Walk
END:VEVENT
BEGIN:VEVENT
DTSTART;TZID=UTC:20260509T000000
DTEND;TZID=UTC:20260509T000000
DTSTAMP:20260422T221018
CREATED:20251016T162819Z
LAST-MODIFIED:20251016T162843Z
UID:9836-1778284800-1778284800@forsythaudubon.org
SUMMARY:Second Saturday Bird Walk
DESCRIPTION:Join us at Tanglewood for our May Second Saturday Bird Walk! More details forthcoming.
URL:https://forsythaudubon.org/event-calendar/second-saturday-bird-walk-3/
LOCATION:Tanglewood Park Yadkin River Trail\, 4061 Clemmons Road\, Clemmons\, NC\, 27012\, United States
CATEGORIES:Bird Walk
END:VEVENT
BEGIN:VEVENT
DTSTART;TZID=UTC:20260613T000000
DTEND;TZID=UTC:20260613T000000
DTSTAMP:20260422T221018
CREATED:20251016T162937Z
LAST-MODIFIED:20251016T162937Z
UID:9838-1781308800-1781308800@forsythaudubon.org
SUMMARY:Second Saturday Bird Walk
DESCRIPTION:Beat the heat at Miller Park for our June Second Saturday Bird Outing! More details forthcoming.
URL:https://forsythaudubon.org/event-calendar/second-saturday-bird-walk-4/
LOCATION:NC
CATEGORIES:Bird Walk
END:VEVENT
BEGIN:VEVENT
DTSTART;TZID=UTC:20260622T000000
DTEND;TZID=UTC:20260622T000000
DTSTAMP:20260422T221018
CREATED:20251016T165104Z
LAST-MODIFIED:20251016T165104Z
UID:9851-1782086400-1782086400@forsythaudubon.org
SUMMARY:Fourth Monday Bird Outing
DESCRIPTION:Don’t monadKNOCK this wonderful June Fourth Monday Bird Outing at Pilot Mountain! More details forthcoming.
URL:https://forsythaudubon.org/event-calendar/fourth-monday-bird-outing-2/
LOCATION:Pilot Mountain State Park
CATEGORIES:Bird Walk
END:VEVENT
END:VCALENDAR