BEGIN:VCALENDAR
VERSION:2.0
PRODID:-//Forsyth Audubon Society - ECPv6.15.20//NONSGML v1.0//EN
CALSCALE:GREGORIAN
METHOD:PUBLISH
X-ORIGINAL-URL:https://forsythaudubon.org
X-WR-CALDESC:Events for Forsyth Audubon Society
REFRESH-INTERVAL;VALUE=DURATION:PT1H
X-Robots-Tag:noindex
X-PUBLISHED-TTL:PT1H
BEGIN:VTIMEZONE
TZID:UTC
BEGIN:STANDARD
TZOFFSETFROM:+0000
TZOFFSETTO:+0000
TZNAME:UTC
DTSTART:20250101T000000
END:STANDARD
END:VTIMEZONE
BEGIN:VEVENT
DTSTART;TZID=UTC:20260509T000000
DTEND;TZID=UTC:20260509T000000
DTSTAMP:20260422T221148
CREATED:20251016T162819Z
LAST-MODIFIED:20251016T162843Z
UID:9836-1778284800-1778284800@forsythaudubon.org
SUMMARY:Second Saturday Bird Walk
DESCRIPTION:Join us at Tanglewood for our May Second Saturday Bird Walk! More details forthcoming.
URL:https://forsythaudubon.org/event-calendar/second-saturday-bird-walk-3/
LOCATION:Tanglewood Park Yadkin River Trail\, 4061 Clemmons Road\, Clemmons\, NC\, 27012\, United States
CATEGORIES:Bird Walk
END:VEVENT
BEGIN:VEVENT
DTSTART;TZID=UTC:20260613T000000
DTEND;TZID=UTC:20260613T000000
DTSTAMP:20260422T221148
CREATED:20251016T162937Z
LAST-MODIFIED:20251016T162937Z
UID:9838-1781308800-1781308800@forsythaudubon.org
SUMMARY:Second Saturday Bird Walk
DESCRIPTION:Beat the heat at Miller Park for our June Second Saturday Bird Outing! More details forthcoming.
URL:https://forsythaudubon.org/event-calendar/second-saturday-bird-walk-4/
CATEGORIES:Bird Walk
END:VEVENT
BEGIN:VEVENT
DTSTART;TZID=UTC:20260622T000000
DTEND;TZID=UTC:20260622T000000
DTSTAMP:20260422T221148
CREATED:20251016T165104Z
LAST-MODIFIED:20251016T165104Z
UID:9851-1782086400-1782086400@forsythaudubon.org
SUMMARY:Fourth Monday Bird Outing
DESCRIPTION:Don’t monadKNOCK this wonderful June Fourth Monday Bird Outing at Pilot Mountain! More details forthcoming.
URL:https://forsythaudubon.org/event-calendar/fourth-monday-bird-outing-2/
LOCATION:Pilot Mountain State Park
CATEGORIES:Bird Walk
END:VEVENT
END:VCALENDAR