BEGIN:VCALENDAR
VERSION:2.0
PRODID:-//Forsyth Audubon Society - ECPv6.15.20//NONSGML v1.0//EN
CALSCALE:GREGORIAN
METHOD:PUBLISH
X-ORIGINAL-URL:https://forsythaudubon.org
X-WR-CALDESC:Events for Forsyth Audubon Society
REFRESH-INTERVAL;VALUE=DURATION:PT1H
X-Robots-Tag:noindex
X-PUBLISHED-TTL:PT1H
BEGIN:VTIMEZONE
TZID:UTC
BEGIN:STANDARD
TZOFFSETFROM:+0000
TZOFFSETTO:+0000
TZNAME:UTC
DTSTART:20240101T000000
END:STANDARD
END:VTIMEZONE
BEGIN:VEVENT
DTSTART;VALUE=DATE:20250107
DTEND;VALUE=DATE:20250108
DTSTAMP:20260422T221640
CREATED:20240812T020541Z
LAST-MODIFIED:20240812T020541Z
UID:6188-1736208000-1736294399@forsythaudubon.org
SUMMARY:Forsyth Audubon Board Meeting
DESCRIPTION:January Board Meeting
URL:https://forsythaudubon.org/event-calendar/forsyth-audubon-board-meeting-6/
LOCATION:NC
CATEGORIES:Board Meeting
END:VEVENT
END:VCALENDAR