BEGIN:VCALENDAR
VERSION:2.0
PRODID:-//Forsyth Audubon Society - ECPv6.15.20//NONSGML v1.0//EN
CALSCALE:GREGORIAN
METHOD:PUBLISH
X-ORIGINAL-URL:https://forsythaudubon.org
X-WR-CALDESC:Events for Forsyth Audubon Society
REFRESH-INTERVAL;VALUE=DURATION:PT1H
X-Robots-Tag:noindex
X-PUBLISHED-TTL:PT1H
BEGIN:VTIMEZONE
TZID:UTC
BEGIN:STANDARD
TZOFFSETFROM:+0000
TZOFFSETTO:+0000
TZNAME:UTC
DTSTART:20240101T000000
END:STANDARD
END:VTIMEZONE
BEGIN:VEVENT
DTSTART;VALUE=DATE:20250204
DTEND;VALUE=DATE:20250205
DTSTAMP:20260422T205509
CREATED:20240812T020649Z
LAST-MODIFIED:20240812T020649Z
UID:6190-1738627200-1738713599@forsythaudubon.org
SUMMARY:Forsyth Audubon Board Meeting
DESCRIPTION:February Board Meeting
URL:https://forsythaudubon.org/event-calendar/forsyth-audubon-board-meeting-7/
LOCATION:NC
CATEGORIES:Board Meeting
END:VEVENT
END:VCALENDAR