BEGIN:VCALENDAR
VERSION:2.0
PRODID:-//Forsyth Audubon Society - ECPv6.15.20//NONSGML v1.0//EN
CALSCALE:GREGORIAN
METHOD:PUBLISH
X-WR-CALNAME:Forsyth Audubon Society
X-ORIGINAL-URL:https://forsythaudubon.org
X-WR-CALDESC:Events for Forsyth Audubon Society
REFRESH-INTERVAL;VALUE=DURATION:PT1H
X-Robots-Tag:noindex
X-PUBLISHED-TTL:PT1H
BEGIN:VTIMEZONE
TZID:UTC
BEGIN:STANDARD
TZOFFSETFROM:+0000
TZOFFSETTO:+0000
TZNAME:UTC
DTSTART:20230101T000000
END:STANDARD
END:VTIMEZONE
BEGIN:VEVENT
DTSTART;VALUE=DATE:20250506
DTEND;VALUE=DATE:20250507
DTSTAMP:20260421T220613
CREATED:20240812T020932Z
LAST-MODIFIED:20240812T020932Z
UID:6196-1746489600-1746575999@forsythaudubon.org
SUMMARY:Forsyth Audubon Board Meeting
DESCRIPTION:May Board Meeting
URL:https://forsythaudubon.org/event-calendar/forsyth-audubon-board-meeting-10/
LOCATION:NC
CATEGORIES:Board Meeting
END:VEVENT
BEGIN:VEVENT
DTSTART;VALUE=DATE:20250401
DTEND;VALUE=DATE:20250402
DTSTAMP:20260421T220613
CREATED:20240812T020846Z
LAST-MODIFIED:20240812T020846Z
UID:6194-1743465600-1743551999@forsythaudubon.org
SUMMARY:Forsyth Audubon Board Meeting
DESCRIPTION:April Board Meeting
URL:https://forsythaudubon.org/event-calendar/forsyth-audubon-board-meeting-9/
LOCATION:NC
CATEGORIES:Board Meeting
END:VEVENT
BEGIN:VEVENT
DTSTART;VALUE=DATE:20250304
DTEND;VALUE=DATE:20250305
DTSTAMP:20260421T220613
CREATED:20240812T020738Z
LAST-MODIFIED:20240812T020738Z
UID:6192-1741046400-1741132799@forsythaudubon.org
SUMMARY:Forsyth Audubon Board Meeting
DESCRIPTION:April Board Meeting
URL:https://forsythaudubon.org/event-calendar/forsyth-audubon-board-meeting-8/
LOCATION:NC
CATEGORIES:Board Meeting
END:VEVENT
BEGIN:VEVENT
DTSTART;VALUE=DATE:20250204
DTEND;VALUE=DATE:20250205
DTSTAMP:20260421T220613
CREATED:20240812T020649Z
LAST-MODIFIED:20240812T020649Z
UID:6190-1738627200-1738713599@forsythaudubon.org
SUMMARY:Forsyth Audubon Board Meeting
DESCRIPTION:February Board Meeting
URL:https://forsythaudubon.org/event-calendar/forsyth-audubon-board-meeting-7/
LOCATION:NC
CATEGORIES:Board Meeting
END:VEVENT
BEGIN:VEVENT
DTSTART;VALUE=DATE:20250107
DTEND;VALUE=DATE:20250108
DTSTAMP:20260421T220613
CREATED:20240812T020541Z
LAST-MODIFIED:20240812T020541Z
UID:6188-1736208000-1736294399@forsythaudubon.org
SUMMARY:Forsyth Audubon Board Meeting
DESCRIPTION:January Board Meeting
URL:https://forsythaudubon.org/event-calendar/forsyth-audubon-board-meeting-6/
LOCATION:NC
CATEGORIES:Board Meeting
END:VEVENT
BEGIN:VEVENT
DTSTART;VALUE=DATE:20241204
DTEND;VALUE=DATE:20241205
DTSTAMP:20260421T220613
CREATED:20240812T001216Z
LAST-MODIFIED:20241115T143123Z
UID:6186-1733270400-1733356799@forsythaudubon.org
SUMMARY:Forsyth Audubon Board Meeting
DESCRIPTION:December Board Meeting
URL:https://forsythaudubon.org/event-calendar/forsyth-audubon-board-meeting-5/
LOCATION:NC
CATEGORIES:Board Meeting
END:VEVENT
BEGIN:VEVENT
DTSTART;VALUE=DATE:20241112
DTEND;VALUE=DATE:20241113
DTSTAMP:20260421T220613
CREATED:20240804T015609Z
LAST-MODIFIED:20241105T021241Z
UID:5854-1731369600-1731455999@forsythaudubon.org
SUMMARY:Forsyth Audubon Board Meeting
DESCRIPTION:December Board Meeting
URL:https://forsythaudubon.org/event-calendar/forsyth-audubon-board-meeting-4/
LOCATION:NC
CATEGORIES:Board Meeting
END:VEVENT
BEGIN:VEVENT
DTSTART;TZID=UTC:20241008T181500
DTEND;TZID=UTC:20241008T200000
DTSTAMP:20260421T220613
CREATED:20240812T021502Z
LAST-MODIFIED:20241001T003324Z
UID:6201-1728411300-1728417600@forsythaudubon.org
SUMMARY:Monthly Dinner
DESCRIPTION:Come join us at 6:15 PM at River Birch Lodge on Robinhood Road for our Monthly Dinner! Group reservations are under “Forsyth Audubon”. There is no formal program\, just fun conversation about birds\, nature\, conservation or any topic of the day. Come for a drink and/or a meal. Please submit your reservation on our website using the following link: https://forsythaudubon.org/dinner-reservations/ \nTo be fair to the restaurant\, we release tables not occupied by 6:30\, so please arrive promptly. All are welcome\, including experienced birders\, new birders\, family and friends.
URL:https://forsythaudubon.org/event-calendar/monthly-dinner/
LOCATION:River Birch Lodge\, 3324 Robinhood Rd\, Winston-Salem\, NC\, United States
CATEGORIES:Board Meeting
END:VEVENT
BEGIN:VEVENT
DTSTART;VALUE=DATE:20241001
DTEND;VALUE=DATE:20241002
DTSTAMP:20260421T220613
CREATED:20240804T015526Z
LAST-MODIFIED:20240804T015526Z
UID:5852-1727740800-1727827199@forsythaudubon.org
SUMMARY:Forsyth Audubon Board Meeting
DESCRIPTION:October Board Meeting
URL:https://forsythaudubon.org/event-calendar/forsyth-audubon-board-meeting-3/
LOCATION:NC
CATEGORIES:Board Meeting
END:VEVENT
BEGIN:VEVENT
DTSTART;VALUE=DATE:20240903
DTEND;VALUE=DATE:20240904
DTSTAMP:20260421T220613
CREATED:20240804T015446Z
LAST-MODIFIED:20240804T015446Z
UID:5850-1725321600-1725407999@forsythaudubon.org
SUMMARY:Forsyth Audubon Board Meeting
DESCRIPTION:September Board Meeting
URL:https://forsythaudubon.org/event-calendar/forsyth-audubon-board-meeting-2/
LOCATION:NC
CATEGORIES:Board Meeting
END:VEVENT
BEGIN:VEVENT
DTSTART;VALUE=DATE:20240810
DTEND;VALUE=DATE:20240811
DTSTAMP:20260421T220613
CREATED:20240804T015243Z
LAST-MODIFIED:20240804T015309Z
UID:5846-1723248000-1723334399@forsythaudubon.org
SUMMARY:Forsyth Audubon Board Meeting
DESCRIPTION:August Board Meeting
URL:https://forsythaudubon.org/event-calendar/forsyth-audubon-board-meeting/
LOCATION:NC
CATEGORIES:Board Meeting
END:VEVENT
END:VCALENDAR