BEGIN:VCALENDAR
VERSION:2.0
PRODID:-//Forsyth Audubon Society - ECPv6.15.20//NONSGML v1.0//EN
CALSCALE:GREGORIAN
METHOD:PUBLISH
X-ORIGINAL-URL:https://forsythaudubon.org
X-WR-CALDESC:Events for Forsyth Audubon Society
REFRESH-INTERVAL;VALUE=DURATION:PT1H
X-Robots-Tag:noindex
X-PUBLISHED-TTL:PT1H
BEGIN:VTIMEZONE
TZID:UTC
BEGIN:STANDARD
TZOFFSETFROM:+0000
TZOFFSETTO:+0000
TZNAME:UTC
DTSTART:20230101T000000
END:STANDARD
END:VTIMEZONE
BEGIN:VEVENT
DTSTART;TZID=UTC:20240421T160000
DTEND;TZID=UTC:20240421T170000
DTSTAMP:20260423T042518
CREATED:20240309T221010Z
LAST-MODIFIED:20240310T004043Z
UID:4844-1713715200-1713718800@forsythaudubon.org
SUMMARY:Book Club
DESCRIPTION:Join us on Zoom to discuss The Comfort of Crows: A Backyard Year by Margaret Renkl.  Email forsythaudubon.org for the Zoom link.  To receive a discount on your book purchase\, visit local bookstore Bookmarks and use the code 20AUDUBON both online and in the store.
URL:https://forsythaudubon.org/event-calendar/book-club/
LOCATION:Zoom
CATEGORIES:Book Club
END:VEVENT
END:VCALENDAR