BEGIN:VCALENDAR
VERSION:2.0
PRODID:-//Forsyth Audubon Society - ECPv6.15.20//NONSGML v1.0//EN
CALSCALE:GREGORIAN
METHOD:PUBLISH
X-WR-CALNAME:Forsyth Audubon Society
X-ORIGINAL-URL:https://forsythaudubon.org
X-WR-CALDESC:Events for Forsyth Audubon Society
REFRESH-INTERVAL;VALUE=DURATION:PT1H
X-Robots-Tag:noindex
X-PUBLISHED-TTL:PT1H
BEGIN:VTIMEZONE
TZID:UTC
BEGIN:STANDARD
TZOFFSETFROM:+0000
TZOFFSETTO:+0000
TZNAME:UTC
DTSTART:20250101T000000
END:STANDARD
END:VTIMEZONE
BEGIN:VEVENT
DTSTART;TZID=UTC:20260423T180000
DTEND;TZID=UTC:20260423T180000
DTSTAMP:20260421T170613
CREATED:20260412T214402Z
LAST-MODIFIED:20260412T214631Z
UID:10967-1776967200-1776967200@forsythaudubon.org
SUMMARY:April Book Club
DESCRIPTION:This month\, the Forsyth Audubon Book Club is exploring The Feather Detective: Mystery\, Mayhem\, and the Magnificent Life of Roxie Laybourne. A biography written by Chris Sweeney about the world’s first forensic ornithologist\, the eponymous Laybourne who used microscopic feather analysis to solve crimes and aviation disasters. Sign-up today! \nMeet on the Third Floor Dudley Conference Room.
URL:https://forsythaudubon.org/event-calendar/april-book-club/
LOCATION:Forsyth County Central Library\, 660 West Fifth Street\, Winston-Salem\, NC\, 27101\, United States
CATEGORIES:Book Club
END:VEVENT
END:VCALENDAR