BEGIN:VCALENDAR
VERSION:2.0
PRODID:-//Forsyth Audubon Society - ECPv6.15.20//NONSGML v1.0//EN
CALSCALE:GREGORIAN
METHOD:PUBLISH
X-WR-CALNAME:Forsyth Audubon Society
X-ORIGINAL-URL:https://forsythaudubon.org
X-WR-CALDESC:Events for Forsyth Audubon Society
REFRESH-INTERVAL;VALUE=DURATION:PT1H
X-Robots-Tag:noindex
X-PUBLISHED-TTL:PT1H
BEGIN:VTIMEZONE
TZID:UTC
BEGIN:STANDARD
TZOFFSETFROM:+0000
TZOFFSETTO:+0000
TZNAME:UTC
DTSTART:20230101T000000
END:STANDARD
END:VTIMEZONE
BEGIN:VEVENT
DTSTART;TZID=UTC:20240423T183000
DTEND;TZID=UTC:20240423T203000
DTSTAMP:20260423T042838
CREATED:20240403T220819Z
LAST-MODIFIED:20240403T220819Z
UID:5339-1713897000-1713904200@forsythaudubon.org
SUMMARY:Chapter Meeting
DESCRIPTION:Please join us at our April chapter meeting to hear from Robin Davis on how small business sustainability efforts benefit birds\, the environment and humans too. Davis is founder and CEO of Maxie B’s Bakery in Greensboro\, NC. Davis won the 2022 Governor’s Award for North Carolina Business Conservationist of the Year. Last year Maxie B’s won the City of Greensboro’s #LiveGreen “Waste Not Award”. Davis and her team installed native plantings in front and behind the bakery in a strip mall on busy Battleground Avenue in Greensboro and now have birds nesting in the habitat they created. She is on the board of Piedmont Land Conservancy and T. Gilbert Pearson Audubon Society. \nSocial time begins at 6:30\, program begins at 7:00 PM \nHighland Presbyterian Church Activity Building – Across Cloverdale Avenue from Highland Presbyterian Church \n 
URL:https://forsythaudubon.org/event-calendar/chapter-meeting/
LOCATION:Highland Presbyterian Activity building\, 2381 Cloverdale Avenue\, Winston-Salem\, NC\, 27103\, United States
CATEGORIES:Chapter Meeting
END:VEVENT
END:VCALENDAR