BEGIN:VCALENDAR
VERSION:2.0
PRODID:-//Forsyth Audubon Society - ECPv6.15.20//NONSGML v1.0//EN
CALSCALE:GREGORIAN
METHOD:PUBLISH
X-ORIGINAL-URL:https://forsythaudubon.org
X-WR-CALDESC:Events for Forsyth Audubon Society
REFRESH-INTERVAL;VALUE=DURATION:PT1H
X-Robots-Tag:noindex
X-PUBLISHED-TTL:PT1H
BEGIN:VTIMEZONE
TZID:UTC
BEGIN:STANDARD
TZOFFSETFROM:+0000
TZOFFSETTO:+0000
TZNAME:UTC
DTSTART:20240101T000000
END:STANDARD
END:VTIMEZONE
BEGIN:VEVENT
DTSTART;TZID=UTC:20250128T183000
DTEND;TZID=UTC:20250128T203000
DTSTAMP:20260422T150605
CREATED:20250110T222614Z
LAST-MODIFIED:20250110T222637Z
UID:8015-1738089000-1738096200@forsythaudubon.org
SUMMARY:Monthly Chapter Meeting
DESCRIPTION:Join us on January 28\, 2025 for our chapter meeting with Audubon North Carolina coastal biologist Lindsay Addison! Lindsay will update us on her work tracking coastal bird movements through banding Black Skimmers and putting data loggers on American Oystercatchers and Royal Terns. \nWe will meet at Highland Presbyterian Church Fellowship Hall – 2381 Cloverdale Avenue\, WS\, NC 27103. Enter the building through the wide\, white middle door that borders the parking lot; not the Cloverdale entrance that faces the church. \nSocial time begins at 6:30\, program begins at 7:00 PM.
URL:https://forsythaudubon.org/event-calendar/monthly-chapter-meeting-4/
LOCATION:Highland Presbyterian Activity building\, 2381 Cloverdale Avenue\, Winston-Salem\, NC\, 27103\, United States
CATEGORIES:Chapter Meeting
END:VEVENT
END:VCALENDAR