BEGIN:VCALENDAR
VERSION:2.0
PRODID:-//Forsyth Audubon Society - ECPv6.15.20//NONSGML v1.0//EN
CALSCALE:GREGORIAN
METHOD:PUBLISH
X-ORIGINAL-URL:https://forsythaudubon.org
X-WR-CALDESC:Events for Forsyth Audubon Society
REFRESH-INTERVAL;VALUE=DURATION:PT1H
X-Robots-Tag:noindex
X-PUBLISHED-TTL:PT1H
BEGIN:VTIMEZONE
TZID:UTC
BEGIN:STANDARD
TZOFFSETFROM:+0000
TZOFFSETTO:+0000
TZNAME:UTC
DTSTART:20240101T000000
END:STANDARD
END:VTIMEZONE
BEGIN:VEVENT
DTSTART;TZID=UTC:20250422T183000
DTEND;TZID=UTC:20250422T203000
DTSTAMP:20260422T104100
CREATED:20250110T222951Z
LAST-MODIFIED:20250420T003505Z
UID:8022-1745346600-1745353800@forsythaudubon.org
SUMMARY:Monthly Chapter Meeting
DESCRIPTION:Please join us for this month’s chapter meeting to hear from a ROCK STAR in Winston-Salem’s sustainability efforts\, City of Winston-Salem’s Sustainability Director\, Dr. Shaleen Miller. Dr. Miller has been a driving force in conservation initiatives in the year and half since arriving in Winston-Salem\, with efforts such as “No Mow March” and greater use of native plants in city landscaping. She will speak on “Birds\, Bees\, and Better Nights: Urban Sustainability and Redefining Green Spaces in our City.” \nDr. Shaleen Miller is director of sustainability and intergovernmental relations at the City of Winston-Salem. She has her PhD in Urban and Regional Planning and also teaches at UNC Greensboro in the Geography\, Environment\, and Sustainability Department. She has worked at 6 different universities and published research regarding bicycle and pedestrian infrastructure\, park equity\, and resilience after hurricanes. She is also a part-time professional artist\, using recycled glass on paintings to create unique mixed media art. Shaleen also admits to being able to talk about foraging for mushrooms for a very long time.
URL:https://forsythaudubon.org/event-calendar/monthly-chapter-meeting-7/
LOCATION:Highland Presbyterian Activity building\, 2381 Cloverdale Avenue\, Winston-Salem\, NC\, 27103\, United States
CATEGORIES:Chapter Meeting
END:VEVENT
END:VCALENDAR