BEGIN:VCALENDAR
VERSION:2.0
PRODID:-//Forsyth Audubon Society - ECPv6.15.20//NONSGML v1.0//EN
CALSCALE:GREGORIAN
METHOD:PUBLISH
X-WR-CALNAME:Forsyth Audubon Society
X-ORIGINAL-URL:https://forsythaudubon.org
X-WR-CALDESC:Events for Forsyth Audubon Society
REFRESH-INTERVAL;VALUE=DURATION:PT1H
X-Robots-Tag:noindex
X-PUBLISHED-TTL:PT1H
BEGIN:VTIMEZONE
TZID:UTC
BEGIN:STANDARD
TZOFFSETFROM:+0000
TZOFFSETTO:+0000
TZNAME:UTC
DTSTART:20230101T000000
END:STANDARD
END:VTIMEZONE
BEGIN:VEVENT
DTSTART;TZID=UTC:20240326T183000
DTEND;TZID=UTC:20240326T210000
DTSTAMP:20260423T073623
CREATED:20240309T221958Z
LAST-MODIFIED:20240310T004211Z
UID:4851-1711477800-1711486800@forsythaudubon.org
SUMMARY:Chapter Meeting
DESCRIPTION:Please join us for our monthly chapter meeting\, for a presentation by Forsyth Audubon member and photographer David Collins.   David will present “Birds Through the Camera’s Eye\,”  including photos from his travels around North and South America.  He will discuss various aspects of bird photography\, and tell some stories! \nWe will begin our chapter meeting with an unveiling of the new Forsyth Audubon website.  Please join us at 6:30 PM for pizza\, snacks\, and a celebration of wonderful Forsyth Audubon board member Jean Chamberlain who designed the new website. \n 
URL:https://forsythaudubon.org/event-calendar/4851/
LOCATION:Highland Presbyterian Activity building\, 2381 Cloverdale Avenue\, Winston-Salem\, NC\, 27103\, United States
CATEGORIES:Chapter Meeting
END:VEVENT
END:VCALENDAR