BEGIN:VCALENDAR
VERSION:2.0
PRODID:-//Forsyth Audubon Society - ECPv6.15.20//NONSGML v1.0//EN
CALSCALE:GREGORIAN
METHOD:PUBLISH
X-WR-CALNAME:Forsyth Audubon Society
X-ORIGINAL-URL:https://forsythaudubon.org
X-WR-CALDESC:Events for Forsyth Audubon Society
REFRESH-INTERVAL;VALUE=DURATION:PT1H
X-Robots-Tag:noindex
X-PUBLISHED-TTL:PT1H
BEGIN:VTIMEZONE
TZID:UTC
BEGIN:STANDARD
TZOFFSETFROM:+0000
TZOFFSETTO:+0000
TZNAME:UTC
DTSTART:20230101T000000
END:STANDARD
END:VTIMEZONE
BEGIN:VEVENT
DTSTART;TZID=UTC:20240924T183000
DTEND;TZID=UTC:20240924T203000
DTSTAMP:20260422T222145
CREATED:20240812T021835Z
LAST-MODIFIED:20240824T014929Z
UID:6205-1727202600-1727209800@forsythaudubon.org
SUMMARY:Monthly Chapter Meeting
DESCRIPTION:Come Join Us for the First Chapter Meeting of the 2024-2025 Season! \nSocial time begins at 6:30\, program begins at 7:00 PM \nFormer Forsyth Audubon President Nathan Gatto will speak on “Pelagic Adventures Between the Gulf Stream and California Current” \nNathan Gatto\, well-known and admired by many Forsyth area birders\, has been interested in birds since the age of four. His birding addiction started by collecting bird feathers and trying to see new species at Miller Park. His first job was with the US Forest Service and the University of Georgia\, conducting bird and flora surveys in the Nantahala district out of Coweeta station. After graduate school\, he purchased Wright’s Birding Center with his wife Sarah to continue their love of all things bird-related as a business. Nathan enjoys all types of birding except for hawk watching! Currently\, Nathan is working with his two daughters to foster the same love of nature while still chasing rare birds.
URL:https://forsythaudubon.org/event-calendar/monthly-chapter-meeting/
LOCATION:Highland Presbyterian Activity building\, 2381 Cloverdale Avenue\, Winston-Salem\, NC\, 27103\, United States
CATEGORIES:Chapter Meeting
END:VEVENT
END:VCALENDAR