BEGIN:VCALENDAR
VERSION:2.0
PRODID:-//Forsyth Audubon Society - ECPv6.15.20//NONSGML v1.0//EN
CALSCALE:GREGORIAN
METHOD:PUBLISH
X-ORIGINAL-URL:https://forsythaudubon.org
X-WR-CALDESC:Events for Forsyth Audubon Society
REFRESH-INTERVAL;VALUE=DURATION:PT1H
X-Robots-Tag:noindex
X-PUBLISHED-TTL:PT1H
BEGIN:VTIMEZONE
TZID:UTC
BEGIN:STANDARD
TZOFFSETFROM:+0000
TZOFFSETTO:+0000
TZNAME:UTC
DTSTART:20230101T000000
END:STANDARD
END:VTIMEZONE
BEGIN:VEVENT
DTSTART;TZID=UTC:20241203T183000
DTEND;TZID=UTC:20241203T203000
DTSTAMP:20260422T175954
CREATED:20240812T022025Z
LAST-MODIFIED:20241105T021653Z
UID:6209-1733250600-1733257800@forsythaudubon.org
SUMMARY:Monthly Chapter Meeting
DESCRIPTION:Come join us on Tuesday\, December 3rd for our Chapter Meeting Program with Doug DeNeve! (Please note date change! One week later than usual due to Thanksgiving.) \nOur own Forsyth Audubon member and past president Doug DeNeve will present on Penguin Nesting: “Penguins nest in colonies in a number of different southern hemisphere locations. Each location presents a set of challenges that are specific to that colony. In this program\, we will explore how penguins overcome these challenges and raise their young in colonies in three separate locations\, on three different continents.” – Doug \nDoug has been birding and photographing wildlife around the world for over 40 years. His travels have taken him to more than 40 states\, over 30 countries\, and all 7 continents. He has been active with Audubon since the 1980s\, and served a couple of terms as Forsyth Audubon’s president in the 90s. He has also volunteered to assist on numerous field research projects\, including monitoring and collecting data in penguin colonies in South Africa and Argentina. \nSocial time begins at 6:30\, program begins at 7:00 PM
URL:https://forsythaudubon.org/event-calendar/monthly-chapter-meeting-3/
LOCATION:Highland Presbyterian Activity building\, 2381 Cloverdale Avenue\, Winston-Salem\, NC\, 27103\, United States
CATEGORIES:Chapter Meeting
END:VEVENT
END:VCALENDAR