BEGIN:VCALENDAR
VERSION:2.0
PRODID:-//Forsyth Audubon Society - ECPv6.15.20//NONSGML v1.0//EN
CALSCALE:GREGORIAN
METHOD:PUBLISH
X-WR-CALNAME:Forsyth Audubon Society
X-ORIGINAL-URL:https://forsythaudubon.org
X-WR-CALDESC:Events for Forsyth Audubon Society
REFRESH-INTERVAL;VALUE=DURATION:PT1H
X-Robots-Tag:noindex
X-PUBLISHED-TTL:PT1H
BEGIN:VTIMEZONE
TZID:UTC
BEGIN:STANDARD
TZOFFSETFROM:+0000
TZOFFSETTO:+0000
TZNAME:UTC
DTSTART:20240101T000000
END:STANDARD
END:VTIMEZONE
BEGIN:VEVENT
DTSTART;TZID=UTC:20251202T183000
DTEND;TZID=UTC:20251202T200000
DTSTAMP:20260423T060030
CREATED:20250914T152949Z
LAST-MODIFIED:20250922T002502Z
UID:9750-1764700200-1764705600@forsythaudubon.org
SUMMARY:Monthly Chapter Meeting
DESCRIPTION:Speaker: Luke Bennett\, NCWF Conservation Coordinator https://ncwf.org/about/staff/ \nTalk: Cerulean Warbler survey project in Western NC https://ncwf.org/blog/cerulean-warbler-study/
URL:https://forsythaudubon.org/event-calendar/monthly-chapter-meeting-16/
LOCATION:Highland Presbyterian Activity building\, 2381 Cloverdale Avenue\, Winston-Salem\, NC\, 27103\, United States
CATEGORIES:Chapter Meeting
END:VEVENT
BEGIN:VEVENT
DTSTART;TZID=UTC:20260127T183000
DTEND;TZID=UTC:20260127T200000
DTSTAMP:20260423T060030
CREATED:20250915T165059Z
LAST-MODIFIED:20250915T165059Z
UID:9754-1769538600-1769544000@forsythaudubon.org
SUMMARY:Monthly Chapter Meeting
DESCRIPTION:Speaker: Larkin Dupree\, Vice President\, PMS \nPurple Martin Society https://www.ncpurplemartin.org/ \n 
URL:https://forsythaudubon.org/event-calendar/monthly-chapter-meeting-10/
LOCATION:Highland Presbyterian Activity building\, 2381 Cloverdale Avenue\, Winston-Salem\, NC\, 27103\, United States
CATEGORIES:Chapter Meeting
END:VEVENT
BEGIN:VEVENT
DTSTART;TZID=UTC:20260224T183000
DTEND;TZID=UTC:20260224T200000
DTSTAMP:20260423T060030
CREATED:20250820T175555Z
LAST-MODIFIED:20250915T144044Z
UID:9535-1771957800-1771963200@forsythaudubon.org
SUMMARY:Monthly Chapter Meeting
DESCRIPTION:Join us for our February chapter meeting at the Highland Presbyterian Activity building! \nSpeaker: Hog Island Teachers \nTalk: Lessons Learned in Maine
URL:https://forsythaudubon.org/event-calendar/monthly-chapter-meeting-12/
LOCATION:Highland Presbyterian Activity building\, 2381 Cloverdale Avenue\, Winston-Salem\, NC\, 27103\, United States
CATEGORIES:Chapter Meeting
END:VEVENT
BEGIN:VEVENT
DTSTART;TZID=UTC:20260428T183000
DTEND;TZID=UTC:20260428T200000
DTSTAMP:20260423T060030
CREATED:20250820T180236Z
LAST-MODIFIED:20260412T213846Z
UID:9540-1777401000-1777406400@forsythaudubon.org
SUMMARY:Monthly Chapter Meeting
DESCRIPTION:We all love birding in Winston-Salem’s 79 parks! The Director of Recreation & Parks\, William Royston will update us on our city’s parks. What are the city’s priorities for land management? How can we work with the city to enhance bird habitat within our parks? Learn all this and more in our April chapter meeting. \nForsyth Audubon’s Bird Friendly Habitat Certification program will be tabling from 6:30-7. Come early to learn about how you can turn your yard into an avian paradise.
URL:https://forsythaudubon.org/event-calendar/monthly-chapter-meeting-14/
LOCATION:NC
CATEGORIES:Chapter Meeting
END:VEVENT
BEGIN:VEVENT
DTSTART;TZID=UTC:20260526T180000
DTEND;TZID=UTC:20260526T200000
DTSTAMP:20260423T060030
CREATED:20250820T180554Z
LAST-MODIFIED:20250820T180554Z
UID:9542-1779818400-1779825600@forsythaudubon.org
SUMMARY:Monthly Chapter Meeting
DESCRIPTION:Join us for our May chapter meeting at the Highland Presbyterian Activity building!
URL:https://forsythaudubon.org/event-calendar/monthly-chapter-meeting-15/
LOCATION:Highland Presbyterian Activity building\, 2381 Cloverdale Avenue\, Winston-Salem\, NC\, 27103\, United States
CATEGORIES:Chapter Meeting
END:VEVENT
END:VCALENDAR