BEGIN:VCALENDAR
VERSION:2.0
PRODID:-//Forsyth Audubon Society - ECPv6.15.20//NONSGML v1.0//EN
CALSCALE:GREGORIAN
METHOD:PUBLISH
X-ORIGINAL-URL:https://forsythaudubon.org
X-WR-CALDESC:Events for Forsyth Audubon Society
REFRESH-INTERVAL;VALUE=DURATION:PT1H
X-Robots-Tag:noindex
X-PUBLISHED-TTL:PT1H
BEGIN:VTIMEZONE
TZID:UTC
BEGIN:STANDARD
TZOFFSETFROM:+0000
TZOFFSETTO:+0000
TZNAME:UTC
DTSTART:20240101T000000
END:STANDARD
END:VTIMEZONE
BEGIN:VEVENT
DTSTART;TZID=UTC:20250927T100000
DTEND;TZID=UTC:20250927T160000
DTSTAMP:20260421T214050
CREATED:20250906T195403Z
LAST-MODIFIED:20250906T195403Z
UID:9704-1758967200-1758988800@forsythaudubon.org
SUMMARY:Apple Fest
DESCRIPTION:Apple Fest is September 27th\, 10 AM – 4 PM! Click this link\, pick your shift and join the FUN. We’ll have a new display and activities to share. Sign up today!
URL:https://forsythaudubon.org/event-calendar/apple-fest/
LOCATION:Bethabara Visitor Center\, 2147 Bethabara Road\, Winston-Salem\, NC\, 27106\, United States
CATEGORIES:Event Tabling
END:VEVENT
END:VCALENDAR