BEGIN:VCALENDAR
VERSION:2.0
PRODID:-//Forsyth Audubon Society - ECPv6.15.20//NONSGML v1.0//EN
CALSCALE:GREGORIAN
METHOD:PUBLISH
X-WR-CALNAME:Forsyth Audubon Society
X-ORIGINAL-URL:https://forsythaudubon.org
X-WR-CALDESC:Events for Forsyth Audubon Society
REFRESH-INTERVAL;VALUE=DURATION:PT1H
X-Robots-Tag:noindex
X-PUBLISHED-TTL:PT1H
BEGIN:VTIMEZONE
TZID:UTC
BEGIN:STANDARD
TZOFFSETFROM:+0000
TZOFFSETTO:+0000
TZNAME:UTC
DTSTART:20230101T000000
END:STANDARD
END:VTIMEZONE
BEGIN:VEVENT
DTSTART;TZID=UTC:20241210T180000
DTEND;TZID=UTC:20241210T200000
DTSTAMP:20260422T221447
CREATED:20241001T003237Z
LAST-MODIFIED:20241001T003237Z
UID:6625-1733853600-1733860800@forsythaudubon.org
SUMMARY:Monthly Dinner
DESCRIPTION:Forsyth Audubon monthly dinners take place on the second Tuesday of each month\, 6PM\, at River Birch Lodge on Robinhood Road. Group reservations are under “Forsyth Audubon”. There is no formal program\, just fun conversation about birds\, nature\, conservation or any topic of the day. Come for a drink and/or a meal. Please submit your reservation on our website using the following link: https://forsythaudubon.org/dinner-reservations/ \nTo be fair to the restaurant\, we release tables not occupied by 6:30\, so please arrive promptly. All are welcome\, including experienced birders\, new birders\, family and friends.
URL:https://forsythaudubon.org/event-calendar/monthly-dinner-3/
LOCATION:River Birch Lodge\, 3324 Robinhood Rd\, Winston-Salem\, NC\, United States
CATEGORIES:Monthly Dinner
END:VEVENT
END:VCALENDAR