BEGIN:VCALENDAR
VERSION:2.0
PRODID:-//Forsyth Audubon Society - ECPv6.15.20//NONSGML v1.0//EN
CALSCALE:GREGORIAN
METHOD:PUBLISH
X-ORIGINAL-URL:https://forsythaudubon.org
X-WR-CALDESC:Events for Forsyth Audubon Society
REFRESH-INTERVAL;VALUE=DURATION:PT1H
X-Robots-Tag:noindex
X-PUBLISHED-TTL:PT1H
BEGIN:VTIMEZONE
TZID:UTC
BEGIN:STANDARD
TZOFFSETFROM:+0000
TZOFFSETTO:+0000
TZNAME:UTC
DTSTART:20240101T000000
END:STANDARD
END:VTIMEZONE
BEGIN:VEVENT
DTSTART;TZID=UTC:20250513T180000
DTEND;TZID=UTC:20250513T200000
DTSTAMP:20260423T085237
CREATED:20250103T164217Z
LAST-MODIFIED:20250103T164217Z
UID:7736-1747159200-1747166400@forsythaudubon.org
SUMMARY:Monthly Dinner
DESCRIPTION:Forsyth Audubon monthly dinners take place on the second Tuesday of each month\, 6PM\, at River Birch Lodge on Robinhood Road. Group reservations are under “Forsyth Audubon”. There is no formal program\, just fun conversation about birds\, nature\, conservation or any topic of the day. Come for a drink and/or a meal. Please submit your reservation on our website using the following link: https://forsythaudubon.org/dinner-reservations/ \nTo be fair to the restaurant\, we release tables not occupied by 6:30\, so please arrive promptly. All are welcome\, including experienced birders\, new birders\, family and friends.
URL:https://forsythaudubon.org/event-calendar/monthly-dinner-8/
LOCATION:River Birch Lodge\, 3324 Robinhood Rd\, Winston-Salem\, NC\, United States
CATEGORIES:Monthly Dinner
END:VEVENT
BEGIN:VEVENT
DTSTART;TZID=UTC:20250909T180000
DTEND;TZID=UTC:20250909T180000
DTSTAMP:20260423T085237
CREATED:20250906T195222Z
LAST-MODIFIED:20250909T205039Z
UID:9702-1757440800-1757440800@forsythaudubon.org
SUMMARY:September Monthly Dinner
DESCRIPTION:We will meet at 6:00 PM on Tuesday\, September 9th\, at River Birch Lodge on Robinhood Road\, https://riverbirchlodge.com. Our group reservation will be under Forsyth Audubon. \nThere is no formal program\, just a fun get together to share conversation about birds\, nature\, conservation or anything else that comes up. Come for a drink and/or a meal. There is a full menu of appetizers\, sandwiches and dinner entrees. \nPlease let us know right away if you plan to attend. You can submit your RSVP using the following link: https://forsythaudubon.org/dinner-reservations/\nIf you need to cancel\, you can use that same link to update your RSVP. \nTo be fair to the restaurant\, we will release tables that are not occupied at 6:30pm\, so please arrive promptly. All are welcome. We hope to see familiar faces\, new birders\, family and friends again.
URL:https://forsythaudubon.org/event-calendar/september-birds-beers-3/
LOCATION:River Birch Lodge\, 3324 Robinhood Rd\, Winston-Salem\, NC\, United States
CATEGORIES:Monthly Dinner
END:VEVENT
BEGIN:VEVENT
DTSTART;TZID=UTC:20251014T180000
DTEND;TZID=UTC:20251014T180000
DTSTAMP:20260423T085237
CREATED:20250906T194837Z
LAST-MODIFIED:20250906T194901Z
UID:9700-1760464800-1760464800@forsythaudubon.org
SUMMARY:October Birds & Beers
DESCRIPTION:We will meet at 6:00 PM on Tuesday\, October 14th\, at River Birch Lodge on Robinhood Road\, https://riverbirchlodge.com. Our group reservation will be under Forsyth Audubon. \nThere is no formal program\, just a fun get together to share conversation about birds\, nature\, conservation or anything else that comes up. Come for a drink and/or a meal. There is a full menu of appetizers\, sandwiches and dinner entrees. \nPlease let us know right away if you plan to attend. You can submit your RSVP using the following link: https://forsythaudubon.org/dinner-reservations/\nIf you need to cancel\, you can use that same link to update your RSVP. \nTo be fair to the restaurant\, we will release tables that are not occupied at 6:30pm\, so please arrive promptly. All are welcome. We hope to see familiar faces\, new birders\, family and friends again.
URL:https://forsythaudubon.org/event-calendar/october-birds-beers/
LOCATION:River Birch Lodge\, 3324 Robinhood Rd\, Winston-Salem\, NC\, United States
CATEGORIES:Monthly Dinner
END:VEVENT
BEGIN:VEVENT
DTSTART;TZID=UTC:20251209T180000
DTEND;TZID=UTC:20251209T180000
DTSTAMP:20260423T085237
CREATED:20251130T214855Z
LAST-MODIFIED:20251130T215444Z
UID:10231-1765303200-1765303200@forsythaudubon.org
SUMMARY:December Birds & Beers
DESCRIPTION:We will meet at 6:00 PM on Tuesday\, October 14th\, at River Birch Lodge on Robinhood Road\, https://riverbirchlodge.com. Our group reservation will be under Forsyth Audubon. \nThere is no formal program\, just a fun get together to share conversation about birds\, nature\, conservation or anything else that comes up. Come for a drink and/or a meal. There is a full menu of appetizers\, sandwiches and dinner entrees. \nPlease let us know right away if you plan to attend. You can submit your RSVP using the following link: https://forsythaudubon.org/dinner-reservations/\nIf you need to cancel\, you can use that same link to update your RSVP. \nTo be fair to the restaurant\, we will release tables that are not occupied at 6:30pm\, so please arrive promptly. All are welcome. We hope to see familiar faces\, new birders\, family and friends again.
URL:https://forsythaudubon.org/event-calendar/december-birds-beers/
LOCATION:River Birch Lodge\, 3324 Robinhood Rd\, Winston-Salem\, NC\, United States
CATEGORIES:Monthly Dinner
END:VEVENT
BEGIN:VEVENT
DTSTART;TZID=UTC:20260113T180000
DTEND;TZID=UTC:20260113T180000
DTSTAMP:20260423T085237
CREATED:20260104T232637Z
LAST-MODIFIED:20260104T233855Z
UID:10402-1768327200-1768327200@forsythaudubon.org
SUMMARY:January Birds & Beers
DESCRIPTION:We will meet at 6:00 PM on Tuesday\, January 13th\, at River Birch Lodge on Robinhood Road\, https://riverbirchlodge.com. Our reservation will be under Forsyth Audubon. \nThere is no formal program\, just a fun get together to share conversation about birds\, nature\, conservation or anything else that comes up. Come for a drink and/or a meal. \nPlease let us know right away if you plan to attend. You can submit your RSVP using the following link: https://forsythaudubon.org/dinner-reservations/\nIf you need to cancel\, you can use that same link to update your RSVP. \nTo be fair to the restaurant\, we will release tables that are not occupied at 6:30pm\, so please arrive promptly. All are welcome. We hope to see familiar faces\, new birders\, family and friends again.
URL:https://forsythaudubon.org/event-calendar/january-birds-beers/
LOCATION:River Birch Lodge\, 3324 Robinhood Rd\, Winston-Salem\, NC\, United States
CATEGORIES:Monthly Dinner
END:VEVENT
BEGIN:VEVENT
DTSTART;TZID=UTC:20260210T180000
DTEND;TZID=UTC:20260210T180000
DTSTAMP:20260423T085237
CREATED:20260105T001812Z
LAST-MODIFIED:20260105T001941Z
UID:10406-1770746400-1770746400@forsythaudubon.org
SUMMARY:February Birds & Beers
DESCRIPTION:We will meet at 6:00 PM on Tuesday\, February 10th\, at River Birch Lodge on Robinhood Road\, https://riverbirchlodge.com. Our reservation will be under Forsyth Audubon. \nThere is no formal program\, just a fun get together to share conversation about birds\, nature\, conservation or anything else that comes up. Come for a drink and/or a meal. \nPlease let us know right away if you plan to attend. You can submit your RSVP using the following link: https://forsythaudubon.org/dinner-reservations/\nIf you need to cancel\, you can use that same link to update your RSVP. \nTo be fair to the restaurant\, we will release tables that are not occupied at 6:30pm\, so please arrive promptly. All are welcome. We hope to see familiar faces\, new birders\, family and friends again.
URL:https://forsythaudubon.org/event-calendar/10406/
LOCATION:River Birch Lodge\, 3324 Robinhood Rd\, Winston-Salem\, NC\, United States
CATEGORIES:Monthly Dinner
END:VEVENT
BEGIN:VEVENT
DTSTART;TZID=UTC:20260908T180000
DTEND;TZID=UTC:20260908T180000
DTSTAMP:20260423T085237
CREATED:20260105T013606Z
LAST-MODIFIED:20260105T013631Z
UID:10422-1788890400-1788890400@forsythaudubon.org
SUMMARY:September Birds & Beers
DESCRIPTION:We will meet at 6:00 PM on Tuesday\, August 8th\, at River Birch Lodge on Robinhood Road\, https://riverbirchlodge.com. Our reservation will be under Forsyth Audubon. \nThere is no formal program\, just a fun get together to share conversation about birds\, nature\, conservation or anything else that comes up. Come for a drink and/or a meal. \nPlease let us know right away if you plan to attend. You can submit your RSVP using the following link: https://forsythaudubon.org/dinner-reservations/\nIf you need to cancel\, you can use that same link to update your RSVP. \nTo be fair to the restaurant\, we will release tables that are not occupied at 6:30pm\, so please arrive promptly. All are welcome. We hope to see familiar faces\, new birders\, family and friends again.
URL:https://forsythaudubon.org/event-calendar/september-birds-beers-2/
LOCATION:River Birch Lodge\, 3324 Robinhood Rd\, Winston-Salem\, NC\, United States
CATEGORIES:Monthly Dinner
END:VEVENT
BEGIN:VEVENT
DTSTART;TZID=UTC:20261013T180000
DTEND;TZID=UTC:20261013T180000
DTSTAMP:20260423T085237
CREATED:20260105T013907Z
LAST-MODIFIED:20260105T013936Z
UID:10424-1791914400-1791914400@forsythaudubon.org
SUMMARY:October Birds & Beers
DESCRIPTION:We will meet at 6:00 PM on Tuesday\, October 13th\, at River Birch Lodge on Robinhood Road\, https://riverbirchlodge.com. Our reservation will be under Forsyth Audubon. \nThere is no formal program\, just a fun get together to share conversation about birds\, nature\, conservation or anything else that comes up. Come for a drink and/or a meal. \nPlease let us know right away if you plan to attend. You can submit your RSVP using the following link: https://forsythaudubon.org/dinner-reservations/\nIf you need to cancel\, you can use that same link to update your RSVP. \nTo be fair to the restaurant\, we will release tables that are not occupied at 6:30pm\, so please arrive promptly. All are welcome. We hope to see familiar faces\, new birders\, family and friends again.
URL:https://forsythaudubon.org/event-calendar/october-birds-beers-2/
LOCATION:NC
CATEGORIES:Monthly Dinner
END:VEVENT
BEGIN:VEVENT
DTSTART;TZID=UTC:20261208T180000
DTEND;TZID=UTC:20261208T180000
DTSTAMP:20260423T085237
CREATED:20260105T014229Z
LAST-MODIFIED:20260105T014254Z
UID:10428-1796752800-1796752800@forsythaudubon.org
SUMMARY:December Birds & Beers
DESCRIPTION:We will meet at 6:00 PM on Tuesday\, October 13th\, at River Birch Lodge on Robinhood Road\, https://riverbirchlodge.com. Our reservation will be under Forsyth Audubon. \nThere is no formal program\, just a fun get together to share conversation about birds\, nature\, conservation or anything else that comes up. Come for a drink and/or a meal. \nPlease let us know right away if you plan to attend. You can submit your RSVP using the following link: https://forsythaudubon.org/dinner-reservations/\nIf you need to cancel\, you can use that same link to update your RSVP. \nTo be fair to the restaurant\, we will release tables that are not occupied at 6:30pm\, so please arrive promptly. All are welcome. We hope to see familiar faces\, new birders\, family and friends again.
URL:https://forsythaudubon.org/event-calendar/december-birds-beers-2/
LOCATION:River Birch Lodge\, 3324 Robinhood Rd\, Winston-Salem\, NC\, United States
CATEGORIES:Monthly Dinner
END:VEVENT
END:VCALENDAR