BEGIN:VCALENDAR
VERSION:2.0
PRODID:-//Forsyth Audubon Society - ECPv6.15.20//NONSGML v1.0//EN
CALSCALE:GREGORIAN
METHOD:PUBLISH
X-ORIGINAL-URL:https://forsythaudubon.org
X-WR-CALDESC:Events for Forsyth Audubon Society
REFRESH-INTERVAL;VALUE=DURATION:PT1H
X-Robots-Tag:noindex
X-PUBLISHED-TTL:PT1H
BEGIN:VTIMEZONE
TZID:UTC
BEGIN:STANDARD
TZOFFSETFROM:+0000
TZOFFSETTO:+0000
TZNAME:UTC
DTSTART:20230101T000000
END:STANDARD
END:VTIMEZONE
BEGIN:VEVENT
DTSTART;TZID=UTC:20241026T100000
DTEND;TZID=UTC:20241026T110000
DTSTAMP:20260423T185256
CREATED:20240807T020240Z
LAST-MODIFIED:20240917T001224Z
UID:6005-1729936800-1729940400@forsythaudubon.org
SUMMARY:Young Birders Outing
DESCRIPTION:Young Birders’ Outing at Tanglewood Park \nSaturday\, October 26th at 10:00 a.m. (note later time) \nLeader: Dan Helm\, ably assisted by Henry & Josie \nWe will meet in the gravel parking lot across from Skilpot Lake\, at the entrance to the BMX / Nature Trail. Please wear sturdy\, closed-toe shoes and bring snacks/beverages. All young birders must be accompanied by a responsible adult. \nAlong the way\, we will pay attention to multiple facets of nature. Although the walk is geared for kids\, EVERYONE is welcome to join the fun of discovery!
URL:https://forsythaudubon.org/event-calendar/young-birders-outing-4/
LOCATION:Tanglewood Park Yadkin River Trail\, 4061 Clemmons Road\, Clemmons\, NC\, 27012\, United States
CATEGORIES:Bird Outing,Bird Walk,Nature Outing
END:VEVENT
BEGIN:VEVENT
DTSTART;TZID=UTC:20241123T100000
DTEND;TZID=UTC:20241123T120000
DTSTAMP:20260423T185256
CREATED:20240807T020406Z
LAST-MODIFIED:20241011T175043Z
UID:6007-1732356000-1732363200@forsythaudubon.org
SUMMARY:Young Birders Outing
DESCRIPTION:Young Birders Outing at Muddy Creek Greenway – Jamison Park! \nMeet in paved lot near dog park and maintenance shed. We strongly suggest that everyone wear sturdy\, closed-toe shoes. It is a good idea to bring snacks and a beverage. \n\nAll young birders must be accompanied by a responsible adult. Young Birders of ALL AGES are welcome and encouraged to attend!
URL:https://forsythaudubon.org/event-calendar/young-birders-outing-5/
LOCATION:Muddy Creek Greenway – Jamison Park\, 285 Meadowlark Dr\, Winston-Salem\, NC\, 27106\, United States
CATEGORIES:Bird Outing,Bird Walk,Nature Outing
END:VEVENT
END:VCALENDAR