BEGIN:VCALENDAR
VERSION:2.0
PRODID:-//Forsyth Audubon Society - ECPv6.15.20//NONSGML v1.0//EN
CALSCALE:GREGORIAN
METHOD:PUBLISH
X-ORIGINAL-URL:https://forsythaudubon.org
X-WR-CALDESC:Events for Forsyth Audubon Society
REFRESH-INTERVAL;VALUE=DURATION:PT1H
X-Robots-Tag:noindex
X-PUBLISHED-TTL:PT1H
BEGIN:VTIMEZONE
TZID:UTC
BEGIN:STANDARD
TZOFFSETFROM:+0000
TZOFFSETTO:+0000
TZNAME:UTC
DTSTART:20250101T000000
END:STANDARD
END:VTIMEZONE
BEGIN:VEVENT
DTSTART;TZID=UTC:20260526T180000
DTEND;TZID=UTC:20260526T200000
DTSTAMP:20260421T153311
CREATED:20250820T180554Z
LAST-MODIFIED:20250820T180554Z
UID:9542-1779818400-1779825600@forsythaudubon.org
SUMMARY:Monthly Chapter Meeting
DESCRIPTION:Join us for our May chapter meeting at the Highland Presbyterian Activity building!
URL:https://forsythaudubon.org/event-calendar/monthly-chapter-meeting-15/
LOCATION:Highland Presbyterian Activity building\, 2381 Cloverdale Avenue\, Winston-Salem\, NC\, 27103\, United States
CATEGORIES:Chapter Meeting
END:VEVENT
BEGIN:VEVENT
DTSTART;TZID=UTC:20260609T180000
DTEND;TZID=UTC:20260609T180000
DTSTAMP:20260421T153311
CREATED:20260105T004118Z
LAST-MODIFIED:20260105T004934Z
UID:10415-1781028000-1781028000@forsythaudubon.org
SUMMARY:June Birds & Beers
DESCRIPTION:We will meet at 6:00 PM on Tuesday\, June 9th\, at River Birch Lodge on Robinhood Road\, https://riverbirchlodge.com. Our reservation will be under Forsyth Audubon. \nThere is no formal program\, just a fun get together to share conversation about birds\, nature\, conservation or anything else that comes up. Come for a drink and/or a meal. \nPlease let us know right away if you plan to attend. You can submit your RSVP using the following link: https://forsythaudubon.org/dinner-reservations/\nIf you need to cancel\, you can use that same link to update your RSVP. \nTo be fair to the restaurant\, we will release tables that are not occupied at 6:30pm\, so please arrive promptly. All are welcome. We hope to see familiar faces\, new birders\, family and friends again.
URL:https://forsythaudubon.org/event-calendar/june-birds-beers/
LOCATION:River Birch Lodge\, 3324 Robinhood Rd\, Winston-Salem\, NC\, United States
END:VEVENT
BEGIN:VEVENT
DTSTART;TZID=UTC:20260613T000000
DTEND;TZID=UTC:20260613T000000
DTSTAMP:20260421T153311
CREATED:20251016T162937Z
LAST-MODIFIED:20251016T162937Z
UID:9838-1781308800-1781308800@forsythaudubon.org
SUMMARY:Second Saturday Bird Walk
DESCRIPTION:Beat the heat at Miller Park for our June Second Saturday Bird Outing! More details forthcoming.
URL:https://forsythaudubon.org/event-calendar/second-saturday-bird-walk-4/
LOCATION:NC
CATEGORIES:Bird Walk
END:VEVENT
BEGIN:VEVENT
DTSTART;TZID=UTC:20260622T000000
DTEND;TZID=UTC:20260622T000000
DTSTAMP:20260421T153311
CREATED:20251016T165104Z
LAST-MODIFIED:20251016T165104Z
UID:9851-1782086400-1782086400@forsythaudubon.org
SUMMARY:Fourth Monday Bird Outing
DESCRIPTION:Don’t monadKNOCK this wonderful June Fourth Monday Bird Outing at Pilot Mountain! More details forthcoming.
URL:https://forsythaudubon.org/event-calendar/fourth-monday-bird-outing-2/
LOCATION:Pilot Mountain State Park
CATEGORIES:Bird Walk
END:VEVENT
BEGIN:VEVENT
DTSTART;TZID=UTC:20260707T180000
DTEND;TZID=UTC:20260707T180000
DTSTAMP:20260421T153311
CREATED:20260105T004357Z
LAST-MODIFIED:20260105T004755Z
UID:10417-1783447200-1783447200@forsythaudubon.org
SUMMARY:July Birds & Beers
DESCRIPTION:We will meet at 6:00 PM on Tuesday\, July 13th\, at River Birch Lodge on Robinhood Road\, https://riverbirchlodge.com. Our reservation will be under Forsyth Audubon. \nThere is no formal program\, just a fun get together to share conversation about birds\, nature\, conservation or anything else that comes up. Come for a drink and/or a meal. \nPlease let us know right away if you plan to attend. You can submit your RSVP using the following link: https://forsythaudubon.org/dinner-reservations/\nIf you need to cancel\, you can use that same link to update your RSVP. \nTo be fair to the restaurant\, we will release tables that are not occupied at 6:30pm\, so please arrive promptly. All are welcome. We hope to see familiar faces\, new birders\, family and friends again.
URL:https://forsythaudubon.org/event-calendar/july-birds-beers/
LOCATION:River Birch Lodge\, 3324 Robinhood Rd\, Winston-Salem\, NC\, United States
END:VEVENT
BEGIN:VEVENT
DTSTART;TZID=UTC:20260811T180000
DTEND;TZID=UTC:20260811T180000
DTSTAMP:20260421T153311
CREATED:20260105T013454Z
LAST-MODIFIED:20260105T013750Z
UID:10420-1786471200-1786471200@forsythaudubon.org
SUMMARY:August Birds & Beers
DESCRIPTION:We will meet at 6:00 PM on Tuesday\, August 11th\, at River Birch Lodge on Robinhood Road\, https://riverbirchlodge.com. Our reservation will be under Forsyth Audubon. \nThere is no formal program\, just a fun get together to share conversation about birds\, nature\, conservation or anything else that comes up. Come for a drink and/or a meal. \nPlease let us know right away if you plan to attend. You can submit your RSVP using the following link: https://forsythaudubon.org/dinner-reservations/\nIf you need to cancel\, you can use that same link to update your RSVP. \nTo be fair to the restaurant\, we will release tables that are not occupied at 6:30pm\, so please arrive promptly. All are welcome. We hope to see familiar faces\, new birders\, family and friends again.
URL:https://forsythaudubon.org/event-calendar/august-birds-beers/
LOCATION:River Birch Lodge\, 3324 Robinhood Rd\, Winston-Salem\, NC\, United States
END:VEVENT
BEGIN:VEVENT
DTSTART;TZID=UTC:20260908T180000
DTEND;TZID=UTC:20260908T180000
DTSTAMP:20260421T153311
CREATED:20260105T013606Z
LAST-MODIFIED:20260105T013631Z
UID:10422-1788890400-1788890400@forsythaudubon.org
SUMMARY:September Birds & Beers
DESCRIPTION:We will meet at 6:00 PM on Tuesday\, August 8th\, at River Birch Lodge on Robinhood Road\, https://riverbirchlodge.com. Our reservation will be under Forsyth Audubon. \nThere is no formal program\, just a fun get together to share conversation about birds\, nature\, conservation or anything else that comes up. Come for a drink and/or a meal. \nPlease let us know right away if you plan to attend. You can submit your RSVP using the following link: https://forsythaudubon.org/dinner-reservations/\nIf you need to cancel\, you can use that same link to update your RSVP. \nTo be fair to the restaurant\, we will release tables that are not occupied at 6:30pm\, so please arrive promptly. All are welcome. We hope to see familiar faces\, new birders\, family and friends again.
URL:https://forsythaudubon.org/event-calendar/september-birds-beers-2/
LOCATION:River Birch Lodge\, 3324 Robinhood Rd\, Winston-Salem\, NC\, United States
CATEGORIES:Monthly Dinner
END:VEVENT
BEGIN:VEVENT
DTSTART;TZID=UTC:20261013T180000
DTEND;TZID=UTC:20261013T180000
DTSTAMP:20260421T153311
CREATED:20260105T013907Z
LAST-MODIFIED:20260105T013936Z
UID:10424-1791914400-1791914400@forsythaudubon.org
SUMMARY:October Birds & Beers
DESCRIPTION:We will meet at 6:00 PM on Tuesday\, October 13th\, at River Birch Lodge on Robinhood Road\, https://riverbirchlodge.com. Our reservation will be under Forsyth Audubon. \nThere is no formal program\, just a fun get together to share conversation about birds\, nature\, conservation or anything else that comes up. Come for a drink and/or a meal. \nPlease let us know right away if you plan to attend. You can submit your RSVP using the following link: https://forsythaudubon.org/dinner-reservations/\nIf you need to cancel\, you can use that same link to update your RSVP. \nTo be fair to the restaurant\, we will release tables that are not occupied at 6:30pm\, so please arrive promptly. All are welcome. We hope to see familiar faces\, new birders\, family and friends again.
URL:https://forsythaudubon.org/event-calendar/october-birds-beers-2/
LOCATION:NC
CATEGORIES:Monthly Dinner
END:VEVENT
BEGIN:VEVENT
DTSTART;TZID=UTC:20261110T180000
DTEND;TZID=UTC:20261110T180000
DTSTAMP:20260421T153311
CREATED:20260105T014048Z
LAST-MODIFIED:20260105T014109Z
UID:10426-1794333600-1794333600@forsythaudubon.org
SUMMARY:November Birds & Beers
DESCRIPTION:We will meet at 6:00 PM on Tuesday\, November 10th\, at River Birch Lodge on Robinhood Road\, https://riverbirchlodge.com. Our reservation will be under Forsyth Audubon. \nThere is no formal program\, just a fun get together to share conversation about birds\, nature\, conservation or anything else that comes up. Come for a drink and/or a meal. \nPlease let us know right away if you plan to attend. You can submit your RSVP using the following link: https://forsythaudubon.org/dinner-reservations/\nIf you need to cancel\, you can use that same link to update your RSVP. \nTo be fair to the restaurant\, we will release tables that are not occupied at 6:30pm\, so please arrive promptly. All are welcome. We hope to see familiar faces\, new birders\, family and friends again.
URL:https://forsythaudubon.org/event-calendar/november-birds-beers-2/
LOCATION:NC
END:VEVENT
BEGIN:VEVENT
DTSTART;TZID=UTC:20261208T180000
DTEND;TZID=UTC:20261208T180000
DTSTAMP:20260421T153311
CREATED:20260105T014229Z
LAST-MODIFIED:20260105T014254Z
UID:10428-1796752800-1796752800@forsythaudubon.org
SUMMARY:December Birds & Beers
DESCRIPTION:We will meet at 6:00 PM on Tuesday\, December 8th\, at River Birch Lodge on Robinhood Road\, https://riverbirchlodge.com. Our reservation will be under Forsyth Audubon. \nThere is no formal program\, just a fun get together to share conversation about birds\, nature\, conservation or anything else that comes up. Come for a drink and/or a meal. \nPlease let us know right away if you plan to attend. You can submit your RSVP using the following link: https://forsythaudubon.org/dinner-reservations/\nIf you need to cancel\, you can use that same link to update your RSVP. \nTo be fair to the restaurant\, we will release tables that are not occupied at 6:30pm\, so please arrive promptly. All are welcome. We hope to see familiar faces\, new birders\, family and friends again.
URL:https://forsythaudubon.org/event-calendar/december-birds-beers-2/
LOCATION:River Birch Lodge\, 3324 Robinhood Rd\, Winston-Salem\, NC\, United States
CATEGORIES:Monthly Dinner
END:VEVENT
END:VCALENDAR